BEGIN:VCALENDAR
VERSION:2.0
PRODID:-//MKT. Asociación de Marketing de España - ECPv4.9.14//NONSGML v1.0//EN
CALSCALE:GREGORIAN
METHOD:PUBLISH
X-WR-CALNAME:MKT. Asociación de Marketing de España
X-ORIGINAL-URL:https://www.asociacionmkt.es
X-WR-CALDESC:Eventos para MKT. Asociación de Marketing de España
BEGIN:VTIMEZONE
TZID:Europe/Madrid
BEGIN:DAYLIGHT
TZOFFSETFROM:+0100
TZOFFSETTO:+0200
TZNAME:CEST
DTSTART:20220327T010000
END:DAYLIGHT
BEGIN:STANDARD
TZOFFSETFROM:+0200
TZOFFSETTO:+0100
TZNAME:CET
DTSTART:20221030T010000
END:STANDARD
END:VTIMEZONE
BEGIN:VEVENT
DTSTART;TZID=Europe/Madrid:20220223T180000
DTEND;TZID=Europe/Madrid:20220223T193000
DTSTAMP:20260425T010224
CREATED:20220125T084826Z
LAST-MODIFIED:20220317T162703Z
UID:42706-1645639200-1645644600@www.asociacionmkt.es
SUMMARY:JORNADA | «ABM\, la estrategia estrella en el marketing B2B»
DESCRIPTION:El account-based marketing (ABM) es una rama del marketing que permite crear estrategias en con las que conocer a qué tipos de clientes o cuentas nos queremos dirigir a través de una combinación de marketing de contenidos\, tecnología y acción comercial. Sobre este concepto profundizaremos el próximo 23 de febrero en una nueva jornada organizada desde nuestro Comité de Marketing B2B bajo el nombre de «ABM\, la estrategia estrella en el marketing B2B». \nUna jornada híbrida que tendrá lugar en la sede en Madrid de Havas Group entre las 18:00 y 19:30. \n\nAGENDA\n\n18:00-18:10 | Presentación del evento \n\nVíctor Conde\, director general en AMKT\nAlberto Pastor\, CEO en Garlic B2B\n\n\n18:10-18:25 | ABM: las claves de una estrategia de éxitos \n\nArturo García\, socio director de Economía Digital en Garlic B2B\n\n\n18:25-18:40 | ABS (Account Based Sales): la venta social en ABM \n\nJordi Gili\, Country Managing Director y Chief Revenue Officer en Execus\n\n\n18:40-19:15 | Entrevista por Alberto Pastor: LinkedIn para una estrategia de ABM \n\nVerónica Rodríguez\, Lead Client Solutions Manager en LinkedIn\n\n\n19:15-19:30 | Q&A y despedida \n  \n  \nYa puedes registrarte aquí: \n\n> Inscripción\n\n¡Reserva la fecha en tu agenda! \n\nCompártelo en tus RRSS #AMKTB2B: \n
URL:https://www.asociacionmkt.es/evento/abm-marketing-b2b/
LOCATION:Madrid\, Madrid\, España
CATEGORIES:JORNADAS
ATTACH;FMTTYPE=image/jpeg:https://www.asociacionmkt.es/wp-content/uploads/2022/01/ABM-825x353-1.jpg
GEO:40.4167754;-3.7037902
END:VEVENT
END:VCALENDAR