BEGIN:VCALENDAR
VERSION:2.0
PRODID:-//MKT. Asociación de Marketing de España - ECPv4.9.14//NONSGML v1.0//EN
CALSCALE:GREGORIAN
METHOD:PUBLISH
X-WR-CALNAME:MKT. Asociación de Marketing de España
X-ORIGINAL-URL:https://www.asociacionmkt.es
X-WR-CALDESC:Eventos para MKT. Asociación de Marketing de España
BEGIN:VTIMEZONE
TZID:Europe/Madrid
BEGIN:DAYLIGHT
TZOFFSETFROM:+0100
TZOFFSETTO:+0200
TZNAME:CEST
DTSTART:20180325T010000
END:DAYLIGHT
BEGIN:STANDARD
TZOFFSETFROM:+0200
TZOFFSETTO:+0100
TZNAME:CET
DTSTART:20181028T010000
END:STANDARD
END:VTIMEZONE
BEGIN:VEVENT
DTSTART;TZID=Europe/Madrid:20181129T090000
DTEND;TZID=Europe/Madrid:20181129T223000
DTSTAMP:20260423T194915
CREATED:20181119T114117Z
LAST-MODIFIED:20181119T114117Z
UID:19802-1543482000-1543530600@www.asociacionmkt.es
SUMMARY:ACTIVATING BRAVE: LA MARCA COMO CATALIZADOR DEL NEGOCIO
DESCRIPTION:¿Qué están haciendo bien las marcas más importantes del mundo? ¿Qué podemos aprender de ellas para impulsar los resultados de nuestra compañía? ¿Cómo se convierte un activo intangible como la marca en una palanca del negocio? ¿Qué retos habrá que afrontar en el futuro? \nVivimos en un mundo en constante cambio\, en el que las disrupciones tecnológicas han transformado las reglas del juego de la economía y la sociedad. En este contexto\, las marcas sólidas son las más protegidas y preparadas para fortalecer sus negocios. \nPor eso\, la consultora de marca líder a nivel global\, Interbrand\, con el ánimo de transmitir al empresariado español la importancia de la marca como motor de crecimiento de la compañía\, presenta por primera vez en Galicia los resultados de su reconocido informe Best Global Brands 2018\, que recoge y analiza las 100 marcas más valiosas del mundo. \nDe la mano de la Asociación de Marketing de España Club Financiero Atlántico\, Dircom y Markea\, Interbrand te invita a descubrir cómo puedes utilizar la fuerza de tu marca para detectar oportunidades en tu negocio y para relacionarte con tus audiencias de una forma auténtica\, valiente y\, sobre todo\, humana. \nPrograma:\n9:00 Recepción de asistentes \n9:30 Bienvenida \n9:40 Activating Brave. Cómo convertir la marca en una palanca de crecimiento del negocio. \nPresentación del informe Best Global Brands 2018 \nNancy Villanueva\, Managing Director\, Interbrand \n10:30 Café y networking \nEntradas:\nEntrada gratuita previa inscripción. Aforo limitado.\nInscríbete aquí \n
URL:https://www.asociacionmkt.es/evento/activating-brave-la-marca-como-catalizador-del-negocio/
LOCATION:Club Financiero Atlántico\, Avenida Salvador de Madariaga\, 79\, La Coruña\, Galicia\, España
CATEGORIES:PRESENTACIONES (estudios, informes, libros...)
ATTACH;FMTTYPE=image/jpeg:https://www.asociacionmkt.es/wp-content/uploads/2018/11/ActivatingBrave_931x487_v2OKKK.jpg
END:VEVENT
END:VCALENDAR