BEGIN:VCALENDAR
VERSION:2.0
PRODID:-//MKT. Asociación de Marketing de España - ECPv4.9.14//NONSGML v1.0//EN
CALSCALE:GREGORIAN
METHOD:PUBLISH
X-WR-CALNAME:MKT. Asociación de Marketing de España
X-ORIGINAL-URL:https://www.asociacionmkt.es
X-WR-CALDESC:Eventos para MKT. Asociación de Marketing de España
BEGIN:VTIMEZONE
TZID:Europe/Madrid
BEGIN:DAYLIGHT
TZOFFSETFROM:+0100
TZOFFSETTO:+0200
TZNAME:CEST
DTSTART:20170326T010000
END:DAYLIGHT
BEGIN:STANDARD
TZOFFSETFROM:+0200
TZOFFSETTO:+0100
TZNAME:CET
DTSTART:20171029T010000
END:STANDARD
END:VTIMEZONE
BEGIN:VEVENT
DTSTART;TZID=Europe/Madrid:20170926T090000
DTEND;TZID=Europe/Madrid:20170926T150000
DTSTAMP:20260424T005933
CREATED:20170912T173200Z
LAST-MODIFIED:20170912T173200Z
UID:14409-1506416400-1506438000@www.asociacionmkt.es
SUMMARY:Back to Marketing Basics
DESCRIPTION:Back to Marketing Basics (#BTMB17) es un evento que nos invita a olvidar la inmediatez y volver la vista al pasado para recordar la esencia del buen marketing. El próximo 26 de septiembre\, en los teatros Luchana de Madrid\, profesionales incontestables del sector debatirán sobre cómo dejar a los clientes satisfechos conectando con las personas detrás de los números.\nMarketingdirecto.com\, portal número uno en información de marketing y publicidad\, logra reunir en la misma mesa nombres tan importantes como Marcos de Quinto\, Toni Segarra o Miguel Ángel Furones y marcas lideres como Campofrío\, Iberia\, Telepizza o Iberdrola entre muchos otros. No esperes para apuntarte.\nA continuación puedes consultar el programa:\nPrograma del evento \nEntradas:\nLos socios de la Asociación de Marketing de España MKT que lo soliciten contarán con un 30% de descuento para asistir al evento.\nSi eres socio\, solicita aquí tu código de descuento\nENTRADAS A LA VENTA AQUÍ \n
URL:https://www.asociacionmkt.es/evento/back-to-marketing-basics/
LOCATION:Teatros Luchana\, Calle de Luchana\, 38\, Madrid\, Madrid\, 28010\, España
CATEGORIES:CONFERENCIAS
ATTACH;FMTTYPE=image/jpeg:https://www.asociacionmkt.es/wp-content/uploads/2017/09/BTMB.jpg
GEO:40.43222;-3.6980489
X-APPLE-STRUCTURED-LOCATION;VALUE=URI;X-ADDRESS=Teatros Luchana Calle de Luchana 38 Madrid Madrid 28010 España;X-APPLE-RADIUS=500;X-TITLE=Calle de Luchana\, 38:geo:-3.6980489,40.43222
END:VEVENT
END:VCALENDAR