BEGIN:VCALENDAR
VERSION:2.0
PRODID:-//MKT. Asociación de Marketing de España - ECPv4.9.14//NONSGML v1.0//EN
CALSCALE:GREGORIAN
METHOD:PUBLISH
X-WR-CALNAME:MKT. Asociación de Marketing de España
X-ORIGINAL-URL:https://www.asociacionmkt.es
X-WR-CALDESC:Eventos para MKT. Asociación de Marketing de España
BEGIN:VTIMEZONE
TZID:Europe/Madrid
BEGIN:DAYLIGHT
TZOFFSETFROM:+0100
TZOFFSETTO:+0200
TZNAME:CEST
DTSTART:20200329T010000
END:DAYLIGHT
BEGIN:STANDARD
TZOFFSETFROM:+0200
TZOFFSETTO:+0100
TZNAME:CET
DTSTART:20201025T010000
END:STANDARD
END:VTIMEZONE
BEGIN:VEVENT
DTSTART;TZID=Europe/Madrid:20200402T160000
DTEND;TZID=Europe/Madrid:20200402T170000
DTSTAMP:20260423T232014
CREATED:20200326T162300Z
LAST-MODIFIED:20200401T111202Z
UID:30932-1585843200-1585846800@www.asociacionmkt.es
SUMMARY:CHARLAS ONLINE PARA ESTUDIANTES: PATROCINIO DEPORTIVO
DESCRIPTION:Llegar a los distintos targets es uno de los objetivos del profesional del marketing\, que se encuentra en un aprendizaje constante. En este sentido\, dirigirse hacia los futuros profesionales crea una relación de conocimiento que aporta tanto a los expertos como a aquellos que se están formando. \nPor ello\, desde la Asociación de Marketing de España junto a Redkampus\, organizamos durante el mes de abril una serie de charlas online en las que algunos de los mejores profesionales del sector podrán compartir con los estudiantes su experiencia y conocimiento en un momento en el que han visto interrumpidos sus clases presenciales. \nSerán encuentros dinámicos y amenos\, en las que los estudiantes podrán realizar preguntas en directo a los distintos expertos y poner en común su visión sobre el marketing. \nJunto a los ponentes que están dispuestos a prestar sus conocimientos de manera altruista\, tratamos de apoyar a todos los profesionales del futuro para que puedan formarse de la mejor manera posible y sumen puntos para obtener el rigor y la calidad que necesitarán en el ámbito laboral. \n  \nTodo lo que debes saber sobre el patrocinio deportivo junto a Carlos Cantó\nConoce más al ponente: \nCuenta con más de 25 años de experiencia en deportes\, entretenimiento y patrocinio. Ha liderado proyectos de estrategia\, marketing y organización en 23 países. Es CEO de SPSG Consulting\, vocal de la Asociación de Marketing de España y responsable del Comité de Marketing Deportivo. Además\, es licenciado en Administración de Empresas y MBA por ESADE Business School. Más info \n> Inscríbete de manera gratuita\n  \nMás charlas online para estudiantes de marketing:\n> La fidelización de clientes con Juan Carlos Alcaide \n> Inbound marketing y Sales marketing de la mano de Fernando Rivero \n> La gestión de marca en el entorno del marketing 3.0 junto a Javier Herrero-Velarde \n\n  \n  \n  \n  \n  \n  \n  \n  \n  \n
URL:https://www.asociacionmkt.es/evento/charlas-online-para-estudiantes-de-marketing/
LOCATION:Webinar online
CATEGORIES:FORMACION
ATTACH;FMTTYPE=image/png:https://www.asociacionmkt.es/wp-content/uploads/2020/03/WebinarEstudiantes_CarlosCanto.png
END:VEVENT
END:VCALENDAR