BEGIN:VCALENDAR
VERSION:2.0
PRODID:-//MKT. Asociación de Marketing de España - ECPv4.9.14//NONSGML v1.0//EN
CALSCALE:GREGORIAN
METHOD:PUBLISH
X-WR-CALNAME:MKT. Asociación de Marketing de España
X-ORIGINAL-URL:https://www.asociacionmkt.es
X-WR-CALDESC:Eventos para MKT. Asociación de Marketing de España
BEGIN:VTIMEZONE
TZID:Europe/Madrid
BEGIN:DAYLIGHT
TZOFFSETFROM:+0100
TZOFFSETTO:+0200
TZNAME:CEST
DTSTART:20200329T010000
END:DAYLIGHT
BEGIN:STANDARD
TZOFFSETFROM:+0200
TZOFFSETTO:+0100
TZNAME:CET
DTSTART:20201025T010000
END:STANDARD
END:VTIMEZONE
BEGIN:VEVENT
DTSTART;TZID=Europe/Madrid:20200423T160000
DTEND;TZID=Europe/Madrid:20200423T170000
DTSTAMP:20260423T223128
CREATED:20200331T162358Z
LAST-MODIFIED:20200422T073205Z
UID:31079-1587657600-1587661200@www.asociacionmkt.es
SUMMARY:CHARLAS ONLINE PARA ESTUDIANTES: GESTIÓN DE MARCA
DESCRIPTION:Llegar a los distintos targets es uno de los objetivos del profesional del marketing\, que se encuentra en un aprendizaje constante. En este sentido\, dirigirse hacia los futuros profesionales crea una relación de conocimiento que aporta tanto a los expertos como a aquellos que se están formando. \nPor ello\, desde la Asociación de Marketing de España junto a Redkampus\, organizamos durante el mes de abril una serie de charlas online en las que algunos de los mejores profesionales del sector podrán compartir con los estudiantes su experiencia y conocimiento en un momento en el que han visto interrumpidas sus clases presenciales. \nSerán encuentros dinámicos y amenos\, en los que los estudiantes podrán realizar preguntas en directo a los distintos expertos y poner en común su visión sobre el marketing. \nJunto a los ponentes que están dispuestos a prestar sus conocimientos de manera altruista\, tratamos de apoyar a todos los profesionales del futuro para que puedan formarse de la mejor manera posible y sumen puntos para obtener el rigor y la calidad que necesitarán en el ámbito laboral. \n  \nLa gestión de marca en el entorno del marketing 3.0 junto a Javier Herrero-Velarde\nConoce más al ponente: \nCuenta con más de 20 años de experiencia en ventas\, marketing y nuevos negocios en las principales compañías de bienes de consumo (Schweppes\, Coca-Cola\, Sanitas\, Mahou-San Miguel…). Decidió reinventar Mahou-San Miguel fundando Cervecera Independiente\, la nueva unidad de innovación de la compañía. Es director de Nuevos Negocios en la cervecera y de Cervecería Independiente. Se licenció en Business Administration Marketing por Wichita State University y realizó un Máster en Business Administration and Management por IE. Más info \n> Inscríbete de manera gratuita\n
URL:https://www.asociacionmkt.es/evento/charlas-online-para-estudiantes-gestion-de-marca/
LOCATION:Webinar online
CATEGORIES:FORMACION
ATTACH;FMTTYPE=image/png:https://www.asociacionmkt.es/wp-content/uploads/2020/03/Webinar_Estudiantes_HerreroVelarde.png
END:VEVENT
END:VCALENDAR