BEGIN:VCALENDAR
VERSION:2.0
PRODID:-//MKT. Asociación de Marketing de España - ECPv4.9.14//NONSGML v1.0//EN
CALSCALE:GREGORIAN
METHOD:PUBLISH
X-WR-CALNAME:MKT. Asociación de Marketing de España
X-ORIGINAL-URL:https://www.asociacionmkt.es
X-WR-CALDESC:Eventos para MKT. Asociación de Marketing de España
BEGIN:VTIMEZONE
TZID:Europe/Madrid
BEGIN:DAYLIGHT
TZOFFSETFROM:+0100
TZOFFSETTO:+0200
TZNAME:CEST
DTSTART:20260329T010000
END:DAYLIGHT
BEGIN:STANDARD
TZOFFSETFROM:+0200
TZOFFSETTO:+0100
TZNAME:CET
DTSTART:20261025T010000
END:STANDARD
END:VTIMEZONE
BEGIN:VEVENT
DTSTART;TZID=Europe/Madrid:20260122T183000
DTEND;TZID=Europe/Madrid:20260122T203000
DTSTAMP:20260424T023148
CREATED:20260108T170837Z
LAST-MODIFIED:20260120T093827Z
UID:79442-1769106600-1769113800@www.asociacionmkt.es
SUMMARY:Presentación | CRAFTIVENESS Cómo el craft incide en los resultados de marca y negocio
DESCRIPTION:\nDonde el craft se convierte en efectividad\n\n\n\n22 de enero · 18:30 h – 20:30H · Forbes House (Madrid) \n¿Y si el craft fuera uno de los grandes motores de la efectividad en comunicación? \nLa Asociación de Marketing de España (AMKT) y McCann presentan CRAFTIVENESS en Forbes House (Madrid)\, un encuentro exclusivo en torno a una investigación pionera desarrollada junto a Omnicom Production\, que analiza cómo la calidad de la producción influye directamente en la efectividad de la comunicación y en los resultados reales de marca y negocio. \nUn estudio que pone el foco en el craft no como un elemento estético\, sino como una palanca estratégica\, en un contexto donde las marcas ya no compiten solo por atención\, sino por generar impacto real y sostenido. \n\n  \n¿Por qué no te lo puedes perder? \n\nPorque hoy el craft ya no es solo una cuestión de forma\, sino de resultados. \nCRAFTIVENESS explora qué tienen en común los casos de comunicación más efectivos del mundo y hasta qué punto la excelencia en producción es un factor determinante en su éxito. \nEn este encuentro descubrirás: \n\nCómo la calidad de producción puede impactar en la efectividad\nQué papel juega el craft en los resultados de marca y negocio\nPor qué la producción vuelve a ocupar un lugar central en la estrategia de comunicación\n\nPrograma del evento \n\n\n \n\n\n18:15 – 18:30 | Recepción de invitados \n18:30 – 18:40 | Apertura de la jornada \n\n Lucía Angulo\, CEO de McCann Worldgroup y McCann Spain\n Juan Cantón\, Director General de AMKT\n\n18:40 – 19:20 |  Presentación investigación «CRAFTIVENESS» \n\n  Iolanda Casalá\, Head of Effecitiveness McCann y Head of Strategy McCann en Barcelona\n Naomi Merchan\, Brand Strategist McCann\n\n19:20 – 19:50 | Mesa de debate: ¿Es la producción un factor determinante para la eficacia? \n\n Anna Saura\, Productora y directora de cine y documentales\n Adriana Piquet\, Directora general A.P.C.P.\n Inés Fonseca\, Head of European Whisky Hub DIAGEO\n Sergio López\, Global CEO Omnicom Production\n Moderadora:  Lucía Angulo\,  CEO McCann Worldgroup & McCann Spain\n\n19:50 – 20:30 | Cocktail informal de networking \n\n  \nEvento exclusivo · Solo por invitación con aforo limitado \nSi quieres asistir al evento mándanos un email para más información a atencionalsocio@asociacionmkt.es \n\n
URL:https://www.asociacionmkt.es/evento/craftiveness-donde-el-craft-se-convierte-en-efectividad/
LOCATION:Forbes House\, Calle de Amador de los Ríos 5\, Madrid\, Madrid\, 28010\, España
CATEGORIES:PRESENTACIONES (estudios, informes, libros...)
ATTACH;FMTTYPE=image/jpeg:https://www.asociacionmkt.es/wp-content/uploads/2026/01/imagen_CRAFTIVENESS_22_enero-1-scaled.jpg
GEO:40.4271787;-3.6915351
X-APPLE-STRUCTURED-LOCATION;VALUE=URI;X-ADDRESS=Forbes House Calle de Amador de los Ríos 5 Madrid Madrid 28010 España;X-APPLE-RADIUS=500;X-TITLE=Calle de Amador de los Ríos 5:geo:-3.6915351,40.4271787
END:VEVENT
END:VCALENDAR