BEGIN:VCALENDAR
VERSION:2.0
PRODID:-//MKT. Asociación de Marketing de España - ECPv4.9.14//NONSGML v1.0//EN
CALSCALE:GREGORIAN
METHOD:PUBLISH
X-WR-CALNAME:MKT. Asociación de Marketing de España
X-ORIGINAL-URL:https://www.asociacionmkt.es
X-WR-CALDESC:Eventos para MKT. Asociación de Marketing de España
BEGIN:VTIMEZONE
TZID:Europe/Madrid
BEGIN:DAYLIGHT
TZOFFSETFROM:+0100
TZOFFSETTO:+0200
TZNAME:CEST
DTSTART:20170326T010000
END:DAYLIGHT
BEGIN:STANDARD
TZOFFSETFROM:+0200
TZOFFSETTO:+0100
TZNAME:CET
DTSTART:20171029T010000
END:STANDARD
END:VTIMEZONE
BEGIN:VEVENT
DTSTART;VALUE=DATE:20170523
DTEND;VALUE=DATE:20170526
DTSTAMP:20260424T034309
CREATED:20170314T163104Z
LAST-MODIFIED:20170314T163104Z
UID:13324-1495497600-1495756799@www.asociacionmkt.es
SUMMARY:DES17: Digital Business World Congress
DESCRIPTION:DES – Digital Business World Congress es el evento líder en Transformación Digital que ofrece a CEOs\, CIOs\, CDOs\, CMOs\, líderes políticos y responsables de Recursos Humanos\, junto con las compañías y consultoras tecnológicas más innovadoras\, las soluciones y productos más innovadores para guiar a las grandes corporaciones y Pymes europeas hacia la Transformación Digital. Esto incluye soluciones tecnológicas para mejorar la experiencia de cliente\, los procesos operacionales y modelos de negocio de todas las industrias.\nEs el único evento internacional que se acerca a la Transformación Digital como un fenómeno holístico que repercute a todas las áreas de la empresa. Por este motivo\, la propuesta de DES2017 se basa en aportar experiencia\, a través de la zona de exposición con la participación de las principales corporaciones internacionales que están desarrollando actualmente soluciones tecnológicas que faciliten el proceso de transformación\, así como conocimiento\, con un Digital Business World Congress que integra más de 450 ponencias de speakers internacionales en materia de Liderazgo Digital\, Ciberseguridad o Big Data y Analytics\, o sobre las tecnologías que están viniendo como Blockchain o Robotics.\nEl evento tendrá lugar del 23 al 25 de mayo en IFEMA (Madrid).\nMás información en www.des-madrid.com \nEntradas:\nLos socios de MKT cuentan con un 35% de descuento sobre el precio general de la entrada.\nSi eres socio de MKT\, solicita aquí tu código de descuento\nENTRADAS A LA VENTA AQUÍ\n  \n
URL:https://www.asociacionmkt.es/evento/des17-digital-business-world-congress/
LOCATION:IFEMA\,  Av. Partenón\, 5\, Madrid\, Madrid\, 28042\, España
CATEGORIES:CONGRESOS
ATTACH;FMTTYPE=image/jpeg:https://www.asociacionmkt.es/wp-content/uploads/2017/03/DES17.jpg
GEO:40.4642917;-3.6163927
X-APPLE-STRUCTURED-LOCATION;VALUE=URI;X-ADDRESS=IFEMA  Av. Partenón 5 Madrid Madrid 28042 España;X-APPLE-RADIUS=500;X-TITLE=Av. Partenón\, 5:geo:-3.6163927,40.4642917
END:VEVENT
END:VCALENDAR