BEGIN:VCALENDAR
VERSION:2.0
PRODID:-//MKT. Asociación de Marketing de España - ECPv4.9.14//NONSGML v1.0//EN
CALSCALE:GREGORIAN
METHOD:PUBLISH
X-WR-CALNAME:MKT. Asociación de Marketing de España
X-ORIGINAL-URL:https://www.asociacionmkt.es
X-WR-CALDESC:Eventos para MKT. Asociación de Marketing de España
BEGIN:VTIMEZONE
TZID:Europe/Madrid
BEGIN:DAYLIGHT
TZOFFSETFROM:+0100
TZOFFSETTO:+0200
TZNAME:CEST
DTSTART:20150329T010000
END:DAYLIGHT
BEGIN:STANDARD
TZOFFSETFROM:+0200
TZOFFSETTO:+0100
TZNAME:CET
DTSTART:20151025T010000
END:STANDARD
END:VTIMEZONE
BEGIN:VEVENT
DTSTART;TZID=Europe/Madrid:20151001T093000
DTEND;TZID=Europe/Madrid:20151001T113000
DTSTAMP:20260424T000531
CREATED:20150922T132936Z
LAST-MODIFIED:20200427T110050Z
UID:7860-1443691800-1443699000@www.asociacionmkt.es
SUMMARY:Desayunos 2.0: Las 5 claves para gestionar equipos de alto rendimiento
DESCRIPTION:Los Desayunos 2.0 de la AGEP te traen a María López Herranz\, quien te dará a conocer las 5 claves para gestionar tus equipos y convertirlos en Equipos de Alto Rendimiento. Una charla breve\, diferente\, práctica y eficaz que te proporcionará 5 herramientas infalibles para desarrollar equipos y personas más comprometidos\, más autónomos\, más felices y más rentables.\nLa charla es gratuita para socios de AGEP y de la Asociación de Marketing de España. Resto de entradas: 80 euros. La entrada se puede reservar a través del correo electrónico asoc.publicidad@agep.es\nMaría López Herranz es Coach profesional Ejecutivo y de Equipos certificada PCC por la International Coach Federation\, organización de la que fue Presidente en España y de la que actualmente es Past President y miembro de su Junta Directiva.\nExperta en Liderazgo\, Gestión de Equipos y Comunicación\, ha sido Directora General en agencias multinacionales de publicidad\, lo que le ha permitido adquirir una amplia experiencia directiva y liderar equipos de Alto Rendimiento. Ha publicado el manual de Liderazgo “La Estrategia del Cid”.\nColabora con IESE Business School como coach para sus programas directivos y trabaja habitualmente con Comités de Dirección en el desarrollo de competencias y habilidades para el impulso del potencial humano y la satisfacción laboral. Es socia fundadora y directora del Centro de Alto Rendimiento Directivo® \, empresa especializada en el desarrollo profesional y directivo a través de un innovador método basado en el aprendizaje experiencial. \n
URL:https://www.asociacionmkt.es/evento/desayunos-2-0-las-5-claves-para-gestionar-equipos-de-alto-rendimiento/
LOCATION:Sede AGEP\, Gran Vía\, 57 - 9ºG\, Madrid\, Madrid\, 28013\, España
CATEGORIES:CONFERENCIAS
ATTACH;FMTTYPE=image/jpeg:https://www.asociacionmkt.es/wp-content/uploads/2015/09/desayuno-agep.jpg
ORGANIZER;CN="Asociaci%C3%B3n%20General%20de%20Empresas%20de%20Publicidad%20%28AGEP%29GEP":MAILTO:asoc.publidad@agep.es
GEO:40.4189645;-3.7117806
X-APPLE-STRUCTURED-LOCATION;VALUE=URI;X-ADDRESS=Sede AGEP Gran Vía 57 - 9ºG Madrid Madrid 28013 España;X-APPLE-RADIUS=500;X-TITLE=Gran Vía\, 57 - 9ºG:geo:-3.7117806,40.4189645
END:VEVENT
END:VCALENDAR