BEGIN:VCALENDAR
VERSION:2.0
PRODID:-//MKT. Asociación de Marketing de España - ECPv4.9.14//NONSGML v1.0//EN
CALSCALE:GREGORIAN
METHOD:PUBLISH
X-WR-CALNAME:MKT. Asociación de Marketing de España
X-ORIGINAL-URL:https://www.asociacionmkt.es
X-WR-CALDESC:Eventos para MKT. Asociación de Marketing de España
BEGIN:VTIMEZONE
TZID:Europe/Madrid
BEGIN:DAYLIGHT
TZOFFSETFROM:+0100
TZOFFSETTO:+0200
TZNAME:CEST
DTSTART:20170326T010000
END:DAYLIGHT
BEGIN:STANDARD
TZOFFSETFROM:+0200
TZOFFSETTO:+0100
TZNAME:CET
DTSTART:20171029T010000
END:STANDARD
END:VTIMEZONE
BEGIN:VEVENT
DTSTART;TZID=Europe/Madrid:20171025T000000
DTEND;TZID=Europe/Madrid:20171025T000000
DTSTAMP:20260423T231826
CREATED:20171023T080438Z
LAST-MODIFIED:20171023T080438Z
UID:15208-1508889600-1508889600@www.asociacionmkt.es
SUMMARY:DESAYUNO MARKETING DIRECTO: ¿Con qué ingredientes se preparan las campañas de respuesta directa?
DESCRIPTION:¿Hay mejor manera de sacarle jugo a un debate que con un buen desayuno? Marketing Directo y ZIZER organizan un evento privado con empresas alrededor de la mesa cuyo objetivo será debatir sobre los ingredientes que utilizan en las campañas de respuesta directa y compartir entre todos opiniones y experiencias.\nEl 25 de octubre\, en nuestra sede de C/ Carranza en Madrid\, nos sentaremos para tratar de definir cuáles son las mejores estrategias para arrancar una respuesta del cliente así como para trazar el camino que lleva a la respuesta directa en la publicidad.\nUna tertulia informal para aprender de forma 100% práctica en la que podrás compartir y conversar sobre tus inquietudes con otros profesionales top del panorama del marketing. “¿Con qué ingredientes se preparan las campañas de respuesta directa?” es un cita diferente que viene avalada por el prestigio de eventos anteriores. \n
URL:https://www.asociacionmkt.es/evento/desayunos-respuesta-directa/
LOCATION:Asociación de Marketing de España\, C/ Carranza 25\, 1º Dcha\, Madrid\, 28004\, España
CATEGORIES:ENCUENTROS
ATTACH;FMTTYPE=image/jpeg:https://www.asociacionmkt.es/wp-content/uploads/2017/10/InvitacionZizerAME.jpg
END:VEVENT
END:VCALENDAR