BEGIN:VCALENDAR
VERSION:2.0
PRODID:-//MKT. Asociación de Marketing de España - ECPv4.9.14//NONSGML v1.0//EN
CALSCALE:GREGORIAN
METHOD:PUBLISH
X-WR-CALNAME:MKT. Asociación de Marketing de España
X-ORIGINAL-URL:https://www.asociacionmkt.es
X-WR-CALDESC:Eventos para MKT. Asociación de Marketing de España
BEGIN:VTIMEZONE
TZID:Europe/Madrid
BEGIN:DAYLIGHT
TZOFFSETFROM:+0100
TZOFFSETTO:+0200
TZNAME:CEST
DTSTART:20190331T010000
END:DAYLIGHT
BEGIN:STANDARD
TZOFFSETFROM:+0200
TZOFFSETTO:+0100
TZNAME:CET
DTSTART:20191027T010000
END:STANDARD
END:VTIMEZONE
BEGIN:VEVENT
DTSTART;TZID=Europe/Madrid:20190308T090000
DTEND;TZID=Europe/Madrid:20190308T120000
DTSTAMP:20260423T213443
CREATED:20190205T084721Z
LAST-MODIFIED:20190205T084721Z
UID:20796-1552035600-1552046400@www.asociacionmkt.es
SUMMARY:DICTAMEN DE EXPERTOS: FAN EXPERIENCE
DESCRIPTION:Dentro del marco de actividades de la Asociación de Marketing de España\, el 8 de marzo se organiza el acto de presentación del Dictamen de Expertos sobre Fan Experience\, elaborado por el Comité de Expertos del capítulo “Deporte” de la Asociación de Marketing de España. El Dictamen pone de manifiesto las principales conclusiones sobre la materia y analiza cuáles son los retos para el futuro.  El evento — que se celebrará en el auditorio de LaLiga (Calle Torrelaguna\, 60 – 28043\, Madrid)— comenzará con una presentación del dictamen por Carlos Cantó\, CEO de SPSG Consulting y vocal de la Asociación de Marketing de España\,  y continuará con una mesa debate con profesionales de reconocido prestigio dentro del sector. \n  \nEn el acto intervendrán: \n\nEnrique Arribas – Director de Marketing Corporativo y Marca – Grupo Santander y Co-coordinador capítulo “Deporte” Asociación de Marketing de España.\nCarlos Cantó – CEO de SPSG Consulting y Co-coordinador del capítulo “Deporte” Asociación de Marketing de España.\nIris Córdoba – Directora general – Global Sports Innovation Center powered by Microsoft.\nMª Carmen Fernández – Directora de Innovación – Mediapro.\nEnrique Moreno – Director de Marca Global y Activos – LaLiga\n\nConsigue aquí tu entrada:\nInscripción general \n> Si eres socio de MKT\, accede a tu entrada gratuita desde el Área Privada\n
URL:https://www.asociacionmkt.es/evento/dictamen-de-expertos-fan-experience/
LOCATION:Madrid\, Madrid\, España
CATEGORIES:PRESENTACIONES (estudios, informes, libros...)
ATTACH;FMTTYPE=image/jpeg:https://www.asociacionmkt.es/wp-content/uploads/2019/03/DICTAMEN-FANEXPERIENCE-EVENTO-2.jpg
END:VEVENT
END:VCALENDAR