BEGIN:VCALENDAR
VERSION:2.0
PRODID:-//MKT. Asociación de Marketing de España - ECPv4.9.14//NONSGML v1.0//EN
CALSCALE:GREGORIAN
METHOD:PUBLISH
X-WR-CALNAME:MKT. Asociación de Marketing de España
X-ORIGINAL-URL:https://www.asociacionmkt.es
X-WR-CALDESC:Eventos para MKT. Asociación de Marketing de España
BEGIN:VTIMEZONE
TZID:Europe/Madrid
BEGIN:DAYLIGHT
TZOFFSETFROM:+0100
TZOFFSETTO:+0200
TZNAME:CEST
DTSTART:20200329T010000
END:DAYLIGHT
BEGIN:STANDARD
TZOFFSETFROM:+0200
TZOFFSETTO:+0100
TZNAME:CET
DTSTART:20201025T010000
END:STANDARD
END:VTIMEZONE
BEGIN:VEVENT
DTSTART;TZID=Europe/Madrid:20200305T093000
DTEND;TZID=Europe/Madrid:20200305T110000
DTSTAMP:20260423T193326
CREATED:20200212T084313Z
LAST-MODIFIED:20200227T170703Z
UID:29456-1583400600-1583406000@www.asociacionmkt.es
SUMMARY:PARADIGMA DE ACCESO AL CONTENIDO AUDIOVISUAL DEPORTIVO: RETOS EN MARKETING DEPORTIVO
DESCRIPTION:El nuevo paradigma de acceso al contenido deportivo es uno de los grandes retos del presente y del futuro para el marketing deportivo\, tanto desde el punto de vista del patrocinio como desde la perspectiva de la creación del «producto»\, el fortalecimiento de las identidades corporativas de las properties\, la monetización del engagement de los fans\, etc.\nEl Comité de Expertos del Comité de Marketing Deportivo ha elaborado un Dictamen sobre este tema que se presentará el día 5 de marzo en la sede de LaLiga. Contaremos con Carlos Cantó\, CEO de SPSG Consulting y vocal de la Asociación de Marketing de España; Pablo Bellido\, South Europe Leader en Nielsen; Enrique Moreno\, Global Brand Director en LaLiga; Mª Carmen Fernández\, directora de Innovación en MediaPro; Jesús Bueno\, vicepresidente en NBA Europe\, Africa & Middle East; José Hidalgo\, presidente de ADESP; Alex Martínez Roig de Movistar y Felipe Martín\, director de Patrocinios\, Eventos y RRSS de Santander España. \nAGENDA \n9:00 – 9:30 Acreditación\n9:30 – 9:40 Bienvenida por el anfitrión y por la Asociación de Marketing de España\n9:40 – 11:00 Presentación del Dictamen por Carlos Cantó. CEO SPSG Consulting y vocal en la Asociación de Marketing de España \nMesa de debate después de la presentación con: \n\nPablo Bellido. (Nielsen)\nEnrique Moreno. (LaLiga)\nMª Carmen Fernández. (MEDIAPRO)\nJesús Bueno. (NBA)\nJosé Hidalgo. (ADESP)\nFelipe Martín. (Santander)\nAlex Martínez Roig. (Telefónica/Movistar)\n\n¡Plazas limitadas! \n> Puedes acceder aquí a la venta de entradas de la presentación\n> Los socios de MKT pueden encontrar su entrada gratuita en el área de socios\n\n
URL:https://www.asociacionmkt.es/evento/dictamen-expertos-mkt-deporte-acceso-contenido-audiovisual/
LOCATION:Madrid\, Madrid\, España
CATEGORIES:PRESENTACIONES (estudios, informes, libros...)
ATTACH;FMTTYPE=image/jpeg:https://www.asociacionmkt.es/wp-content/uploads/2020/02/Evento-dictamen.jpg
END:VEVENT
END:VCALENDAR