BEGIN:VCALENDAR
VERSION:2.0
PRODID:-//MKT. Asociación de Marketing de España - ECPv4.9.14//NONSGML v1.0//EN
CALSCALE:GREGORIAN
METHOD:PUBLISH
X-WR-CALNAME:MKT. Asociación de Marketing de España
X-ORIGINAL-URL:https://www.asociacionmkt.es
X-WR-CALDESC:Eventos para MKT. Asociación de Marketing de España
BEGIN:VTIMEZONE
TZID:Europe/Madrid
BEGIN:DAYLIGHT
TZOFFSETFROM:+0100
TZOFFSETTO:+0200
TZNAME:CEST
DTSTART:20190331T010000
END:DAYLIGHT
BEGIN:STANDARD
TZOFFSETFROM:+0200
TZOFFSETTO:+0100
TZNAME:CET
DTSTART:20191027T010000
END:STANDARD
END:VTIMEZONE
BEGIN:VEVENT
DTSTART;VALUE=DATE:20191204
DTEND;VALUE=DATE:20191205
DTSTAMP:20260423T213653
CREATED:20191031T135434Z
LAST-MODIFIED:20200117T101634Z
UID:27567-1575417600-1575503999@www.asociacionmkt.es
SUMMARY:EL CHUPETE. FESTIVAL INTERNACIONAL DE COMUNICACIÓN INFANTIL
DESCRIPTION:El Chupete\, primer certamen internacional de comunicación Infantil\, es un Festival independiente que tiene como finalidad premiar cada año los mejores contenidos\, trabajos creativos y con valores\, dirigidos al público infantil y familiar.\nEl Festival\, que este año tendrá lugar el 4 de diciembre en el Círculo de Bellas Artes de Madrid\, busca dar un reconocimiento profesional para todos aquellos anunciantes\, agencias de publicidad y productoras que invierten gran parte de su esfuerzo en este tipo de comunicación\, con el fin de premiar la comunicación responsable.\nAdemás de premiar los mejores trabajos creativos\, el Festival desarrolla conferencias\, coloquios y mesas redondas sobre las últimas tendencias de la publicidad y marketing\, donde se dan cita los mejores profesionales\, investigadores y especialistas de este sector.\nPara saber más sobre El Chupete puedes ver la entrevista que hicimos el año pasado a su director\, Rodrigo Ron\, en la jornada de Socios Corporativos de MKT.\nVER ENTREVISTA \nEntradas:\nLas entradas ya están a la venta por un precio de 70€.\nConsigue tu entrada \n¡50% DESCUENTO EN TUS ENTRADAS SI ERES SOCIO DE MKT!\nConsulta el proceso de inscripción en tu Área Privada.\n
URL:https://www.asociacionmkt.es/evento/el-chupete-festival-internacional-de-comunicacion-infantil-2/
LOCATION:Círculo de Bellas Artes de Madrid\, C/ Alcalá 42\, Madrid\, Madrid\, España
CATEGORIES:PREMIOS
ATTACH;FMTTYPE=image/jpeg:https://www.asociacionmkt.es/wp-content/uploads/2019/10/ElChupete_Evento-2.jpg
END:VEVENT
END:VCALENDAR