BEGIN:VCALENDAR
VERSION:2.0
PRODID:-//MKT. Asociación de Marketing de España - ECPv4.9.14//NONSGML v1.0//EN
CALSCALE:GREGORIAN
METHOD:PUBLISH
X-WR-CALNAME:MKT. Asociación de Marketing de España
X-ORIGINAL-URL:https://www.asociacionmkt.es
X-WR-CALDESC:Eventos para MKT. Asociación de Marketing de España
BEGIN:VTIMEZONE
TZID:Europe/Madrid
BEGIN:DAYLIGHT
TZOFFSETFROM:+0100
TZOFFSETTO:+0200
TZNAME:CEST
DTSTART:20190331T010000
END:DAYLIGHT
BEGIN:STANDARD
TZOFFSETFROM:+0200
TZOFFSETTO:+0100
TZNAME:CET
DTSTART:20191027T010000
END:STANDARD
END:VTIMEZONE
BEGIN:VEVENT
DTSTART;TZID=Europe/Madrid:20191010T150000
DTEND;TZID=Europe/Madrid:20191010T150000
DTSTAMP:20260423T231706
CREATED:20190927T112336Z
LAST-MODIFIED:20190927T112336Z
UID:23669-1570719600-1570719600@www.asociacionmkt.es
SUMMARY:EMMS 2019
DESCRIPTION:La empresa de e-mail\, Automation & Data Marketing\, Doppler\, organiza el próximo 10 de octubre el evento EMMS 2019\,  un evento internacional de Marketing Digital 100% online y gratuito que convoca a los exponentes más importantes del sector para compartir las últimas tendencias de la industria.\nComo cada año\, el evento reunirá a miles de ejecutivos y emprendedores\, profesionales del Marketing y estudiante interesados en las novedades y tendencias de la industria.\nEn este EMMS será el público quien elija las temáticas sobre las que se hablará. Cualquier persona puede sumarse y votar ingresando al sitio del evento\, sin importar en qué lugar del mundo se encuentre ya que la transmisión será enteramente online. Algunas de las temáticas por las que se puede votar son Data Marketing\, Storytelling\, Lead Generation\, Marketing de Experiencias y muchas más. De la misma manera\, quienes se registren también podrán sugerir a qué speakers convocar para que sean parte. \n> Puedes inscribirte al evento y conocer la programación completa aquí\n  \n
URL:https://www.asociacionmkt.es/evento/emms-2019/
LOCATION:Online vía Streaming
CATEGORIES:CONFERENCIAS
ATTACH;FMTTYPE=image/jpeg:https://www.asociacionmkt.es/wp-content/uploads/2019/09/EMMS-evento.jpg
END:VEVENT
END:VCALENDAR