BEGIN:VCALENDAR
VERSION:2.0
PRODID:-//MKT. Asociación de Marketing de España - ECPv4.9.14//NONSGML v1.0//EN
CALSCALE:GREGORIAN
METHOD:PUBLISH
X-WR-CALNAME:MKT. Asociación de Marketing de España
X-ORIGINAL-URL:https://www.asociacionmkt.es
X-WR-CALDESC:Eventos para MKT. Asociación de Marketing de España
BEGIN:VTIMEZONE
TZID:Europe/Madrid
BEGIN:DAYLIGHT
TZOFFSETFROM:+0100
TZOFFSETTO:+0200
TZNAME:CEST
DTSTART:20210328T010000
END:DAYLIGHT
BEGIN:STANDARD
TZOFFSETFROM:+0200
TZOFFSETTO:+0100
TZNAME:CET
DTSTART:20211031T010000
END:STANDARD
END:VTIMEZONE
BEGIN:VEVENT
DTSTART;TZID=Europe/Madrid:20210609T160000
DTEND;TZID=Europe/Madrid:20210609T183000
DTSTAMP:20260425T144534
CREATED:20210512T104100Z
LAST-MODIFIED:20210607T134759Z
UID:38544-1623254400-1623263400@www.asociacionmkt.es
SUMMARY:Consumidores y marcas hiperconectados: e-commerce
DESCRIPTION:Con el objetivo de continuar analizando y debatiendo sobre la actualidad y el futuro del marketing\, presentamos un nuevo encuentro digital\, que tendrá lugar los próximos días 9 y 10 de junio de 16:00 a 18:30\, realizado con el patrocinio y la colaboración de Facebook\, que nos ayudará a entender cómo es el nuevo entorno omnicanal\, fluido y cambiante en el que las marcas tienen que conectar con los consumidores. \nBajo la moderación de Félix Muñoz\, consultor y profesor de Marketing y Comunicación\, analizaremos los cambios que se han producido en los consumidores\, la aceleración del e-commerce y la digitalización de las marcas junto a diversos ponentes y expertos que compartirán su visión y grandes marcas que compartirán sus experiencias y casos de éxito. \n  \nAGENDA \n  \n16:00 | Bienvenida \n\nEnrique Arribas\, presidente de MKT\nÁlvaro Notario\, Country Marketing Manager en Facebook Iberia\n\n\n16:05 | Introducción de la sesión \n\nFélix Muñoz\, consultor y profesor de Marketing y Comunicación\n\n\n16:10 | La aceleración del e-commerce: el nuevo consumidor post pandemia \n\nJosé Ramón Alonso\, Marketing Advisory Lead for Spain & Interactive lead for Retail\, Consumer Goods\, Auto and Travel en Accenture Interactive\n\n\n16:30 | Discovery Commerce \n\nMarisa Manzano\, directora de Retail y Moda en Facebook\n\n\n16:50 |  Algorithm Business Thinking (Humans & Machines) \n\nPaul Smith\, Professor of Management en MIT Sloan School of Management\n\n\n17:15 | Mesa redonda: el futuro del omnichannel commerce \n\nBosco Aranguren\, Digital Director en Vodafone\nGuillermo Barberá\, Head of Media\, Data and Loyalty Marketing en Samsung Electronics\nJavier Figar\, Chief Retail Officer en AWWG\nBeatriz Navarro\, Marketing & Communication Director en FNAC\nModerador: Félix Muñoz\, consultor y profesor de Marketing y Comunicación\n\n\n18:10 | El Impacto de e-privacy en la publicidad digital y la identificación en el futuro post cookies \n\nPaula Ortiz\, directora Jurídica y de Relaciones Institucionales en IAB Spain\n\n\n18:30 | Conclusiones y cierre de la sesión \n\nFélix Muñoz\, consultor y profesor de Marketing y Comunicación\n\n\n  \n> Ya puedes registrarte en las dos sesiones del encuentro digital «Consumidores y marcas hiperconectados» aquí\n  \n
URL:https://www.asociacionmkt.es/evento/encuentro-digital-consumidores-y-marcas-hiperconectados-e-commerce/
LOCATION:online\, España
CATEGORIES:ENCUENTROS
ATTACH;FMTTYPE=image/jpeg:https://www.asociacionmkt.es/wp-content/uploads/2021/05/EventoFacebook_9y10junio_Web-825x353px.jpg
GEO:40.463667;-3.74922
END:VEVENT
END:VCALENDAR