BEGIN:VCALENDAR
VERSION:2.0
PRODID:-//MKT. Asociación de Marketing de España - ECPv4.9.14//NONSGML v1.0//EN
CALSCALE:GREGORIAN
METHOD:PUBLISH
X-WR-CALNAME:MKT. Asociación de Marketing de España
X-ORIGINAL-URL:https://www.asociacionmkt.es
X-WR-CALDESC:Eventos para MKT. Asociación de Marketing de España
BEGIN:VTIMEZONE
TZID:Europe/Madrid
BEGIN:DAYLIGHT
TZOFFSETFROM:+0100
TZOFFSETTO:+0200
TZNAME:CEST
DTSTART:20210328T010000
END:DAYLIGHT
BEGIN:STANDARD
TZOFFSETFROM:+0200
TZOFFSETTO:+0100
TZNAME:CET
DTSTART:20211031T010000
END:STANDARD
END:VTIMEZONE
BEGIN:VEVENT
DTSTART;TZID=Europe/Madrid:20210713T130000
DTEND;TZID=Europe/Madrid:20210713T140000
DTSTAMP:20260423T230839
CREATED:20210601T090301Z
LAST-MODIFIED:20210712T124550Z
UID:38493-1626181200-1626184800@www.asociacionmkt.es
SUMMARY:Encuentro digital | Marketing B2B
DESCRIPTION:Desde el Comité de Marketing B2B te invitamos a un nuevo encuentro digital bajo el nombre de «Marketing de contenidos en B2B: más allá del ABM y LinkedIn»\, que tendrá lugar el 13 de julio de 13:00 a 14:00 y en el que mostraremos las nuevas técnicas para generar marketing de contenido digital y cómo trabajan el contenido grandes marcas del business to business. \n  \nAGENDA\n\n13:00 | Presentación \n\nAlberto Pastor\, director del Comité de Marketing B2B\n\n\n13:05 | Social Based Marketing y el uso de LinkedIn en la estrategia de contenidos en B2B \n\nJordi Gili\, Managing Director en Execus\n\n\n13:25 | Mesa redonda sobre la experiencia y los casos prácticos en la estrategia de generación de contenidos \n\nJordi Gili\, Managing Director en Execus\nLuís Hidalgo\, Digital Comunication en Endesa X\nOscar Marín\, global market&customer insights en John Deere\nEnrique Romero\, head of SEO en Marketalia Marketing Online\nModerador: Arturo García\, miembro del Comité de Expertos y socio de Garlic B2B\n\n\n13:55 | Preguntas y despedida \n\nAlberto Pastor\, director del Comité de Marketing B2B\n\n  \n>Ya puedes registrarte aquí\n  \n  \n
URL:https://www.asociacionmkt.es/evento/encuentro-digital-marketing-b2b/
LOCATION:Madrid\, Madrid\, España
CATEGORIES:ENCUENTROS
ATTACH;FMTTYPE=image/png:https://www.asociacionmkt.es/wp-content/uploads/2021/06/WebinarB2B_julio_web-825x353px_Mesa-de-trabajo-1.png
GEO:40.4167754;-3.7037902
END:VEVENT
END:VCALENDAR