BEGIN:VCALENDAR
VERSION:2.0
PRODID:-//MKT. Asociación de Marketing de España - ECPv4.9.14//NONSGML v1.0//EN
CALSCALE:GREGORIAN
METHOD:PUBLISH
X-WR-CALNAME:MKT. Asociación de Marketing de España
X-ORIGINAL-URL:https://www.asociacionmkt.es
X-WR-CALDESC:Eventos para MKT. Asociación de Marketing de España
BEGIN:VTIMEZONE
TZID:Europe/Madrid
BEGIN:DAYLIGHT
TZOFFSETFROM:+0100
TZOFFSETTO:+0200
TZNAME:CEST
DTSTART:20200329T010000
END:DAYLIGHT
BEGIN:STANDARD
TZOFFSETFROM:+0200
TZOFFSETTO:+0100
TZNAME:CET
DTSTART:20201025T010000
END:STANDARD
END:VTIMEZONE
BEGIN:VEVENT
DTSTART;TZID=Europe/Madrid:20200325T093000
DTEND;TZID=Europe/Madrid:20200325T103000
DTSTAMP:20260425T012156
CREATED:20200225T110805Z
LAST-MODIFIED:20200312T122828Z
UID:30066-1585128600-1585132200@www.asociacionmkt.es
SUMMARY:WEBINAR - PRESENTACIÓN II ESTUDIO DE MARKETING RELACIONAL
DESCRIPTION:El próximo 25 de marzo tendrá lugar a través de un webinar la presentación del II estudio de Marketing Relacional en España\, elaborado por Mediapost y Kantar TNS en colaboración con la Asociación de Marketing de España. \nEl estudio refleja cómo los consumidores se relacionan con las marcas y los puntos de venta (físicos y online): la atracción del consumidor\, la relación antes\, durante y después de la compra; qué características de las marcas o de las tiendas influyen en su elección\, cómo valoran las acciones promocionales en el punto de venta y los clubes de fidelización o qué opinan sobre la gestión de sus datos personales\, entre otras cuestiones. \nUn estudio completo sobre las tendencias en estrategias y acciones de marketing relacional a las que se enfrentan las marcas y las tiendas físicas y online para conocer mejor al consumidor y construir relaciones responsables y sostenibles. \nAGENDA \n9:35 – 9:40 Bienvenida de la Asociación de Marketing de España \n9:40 – 10:05 Presentación del Estudio \n10:05 – 10:15 Ronda de preguntas y debate \n  \n> Regístrate aquí de manera gratuita para acceder al enlace\n  \n
URL:https://www.asociacionmkt.es/evento/estudio-marketing-relacional/
LOCATION:Webinar online
CATEGORIES:JORNADAS
ATTACH;FMTTYPE=image/jpeg:https://www.asociacionmkt.es/wp-content/uploads/2020/02/MARKETING-RELACIONAL-WEBINAR.jpg
END:VEVENT
END:VCALENDAR