BEGIN:VCALENDAR
VERSION:2.0
PRODID:-//MKT. Asociación de Marketing de España - ECPv4.9.14//NONSGML v1.0//EN
CALSCALE:GREGORIAN
METHOD:PUBLISH
X-WR-CALNAME:MKT. Asociación de Marketing de España
X-ORIGINAL-URL:https://www.asociacionmkt.es
X-WR-CALDESC:Eventos para MKT. Asociación de Marketing de España
BEGIN:VTIMEZONE
TZID:Europe/Madrid
BEGIN:DAYLIGHT
TZOFFSETFROM:+0100
TZOFFSETTO:+0200
TZNAME:CEST
DTSTART:20160327T010000
END:DAYLIGHT
BEGIN:STANDARD
TZOFFSETFROM:+0200
TZOFFSETTO:+0100
TZNAME:CET
DTSTART:20161030T010000
END:STANDARD
END:VTIMEZONE
BEGIN:VEVENT
DTSTART;TZID=Europe/Madrid:20160706T100000
DTEND;TZID=Europe/Madrid:20160707T150000
DTSTAMP:20260424T034205
CREATED:20160704T132623Z
LAST-MODIFIED:20160704T132623Z
UID:11030-1467799200-1467903600@www.asociacionmkt.es
SUMMARY:EVENTO DAYS: EL SHOWROOM DE LOS EVENTOS
DESCRIPTION:Los próximos 6 y 7 de julio vuelve al Pabellón 1 de IFEMA Evento Days\, el showroom de los eventos organizado por eventoplus. En su 10ª edición\, los eventos experienciales y las emociones que éstos provocan serán los grandes protagonistas de una cita en la que los profesionales podrán vivir en primera persona las nuevas tendencias del sector\, gracias a divertidas actividades en formatos diferentes y un extenso programa de formación. Además\, consolidada como jornada de referencia del mundo de los eventos\, Evento Days pone en contacto a proveedores de servicios originales para eventos y organizadores.\n \nLista de expositores\, programa y más información aquí\n \nPara acreditarte como visitante\, introduce tu dirección de email en el siguiente enlace y sigue los pasos que te indicará eventoplus:\nINSCRÍBETE AQUÍ\n \n \n
URL:https://www.asociacionmkt.es/evento/evento-days-showroom-los-eventos/
LOCATION:IFEMA\,  Av. Partenón\, 5\, Madrid\, Madrid\, 28042\, España
CATEGORIES:JORNADAS
ATTACH;FMTTYPE=image/jpeg:https://www.asociacionmkt.es/wp-content/uploads/2016/07/eventodays-EVENTO.jpg
GEO:40.4642917;-3.6163927
X-APPLE-STRUCTURED-LOCATION;VALUE=URI;X-ADDRESS=IFEMA  Av. Partenón 5 Madrid Madrid 28042 España;X-APPLE-RADIUS=500;X-TITLE=Av. Partenón\, 5:geo:-3.6163927,40.4642917
END:VEVENT
END:VCALENDAR