BEGIN:VCALENDAR
VERSION:2.0
PRODID:-//MKT. Asociación de Marketing de España - ECPv4.9.14//NONSGML v1.0//EN
CALSCALE:GREGORIAN
METHOD:PUBLISH
X-WR-CALNAME:MKT. Asociación de Marketing de España
X-ORIGINAL-URL:https://www.asociacionmkt.es
X-WR-CALDESC:Eventos para MKT. Asociación de Marketing de España
BEGIN:VTIMEZONE
TZID:Europe/Madrid
BEGIN:DAYLIGHT
TZOFFSETFROM:+0100
TZOFFSETTO:+0200
TZNAME:CEST
DTSTART:20220327T010000
END:DAYLIGHT
BEGIN:STANDARD
TZOFFSETFROM:+0200
TZOFFSETTO:+0100
TZNAME:CET
DTSTART:20221030T010000
END:STANDARD
END:VTIMEZONE
BEGIN:VEVENT
DTSTART;TZID=Europe/Madrid:20220222T120000
DTEND;TZID=Europe/Madrid:20220222T140000
DTSTAMP:20260423T204229
CREATED:20220207T162618Z
LAST-MODIFIED:20220317T162708Z
UID:43783-1645531200-1645538400@www.asociacionmkt.es
SUMMARY:Evento | Experience Makers-Online Solution Forum de Adobe
DESCRIPTION:El próximo 22 de febrero únete a Experience Makers-Online Solution Forum de Adobe. Un evento inmersivo para preparar tu negocio a la personalización a gran escala y en tiempo real.\n\nHoy en día\, el cliente requiere una experiencia de compra única y relevante\, es por eso que las empresas necesitan herramientas que vinculen contenido y comercio. En este sentido\, Adobe te invita el próximo 22 de febrero a preparar tu negocio para la personalización a escala y en tiempo real en su próximo evento Experience Markers-Online Solutions Forum. A partir de las 12:00 podrás seguir por streaming las experiencias reales de casos de uso de Abanca\, Adevinta\, Repsol\, Vocento y muchas más\, así como de expertos en content\, e-commerce\, Data y Marketing Automation. \n  \nMás información y registro aquí\n  \nCompártelo en tus RRSS: \n
URL:https://www.asociacionmkt.es/evento/evento-experience-makers-online-solution-forum-de-adobe/
LOCATION:online\, Madrid\, Madrid\, España
CATEGORIES:JORNADAS
ATTACH;FMTTYPE=image/jpeg:https://www.asociacionmkt.es/wp-content/uploads/2022/02/Adobe_febrero_web.jpg
GEO:40.4167754;-3.7037902
END:VEVENT
END:VCALENDAR