BEGIN:VCALENDAR
VERSION:2.0
PRODID:-//MKT. Asociación de Marketing de España - ECPv4.9.14//NONSGML v1.0//EN
CALSCALE:GREGORIAN
METHOD:PUBLISH
X-WR-CALNAME:MKT. Asociación de Marketing de España
X-ORIGINAL-URL:https://www.asociacionmkt.es
X-WR-CALDESC:Eventos para MKT. Asociación de Marketing de España
BEGIN:VTIMEZONE
TZID:Europe/Madrid
BEGIN:DAYLIGHT
TZOFFSETFROM:+0100
TZOFFSETTO:+0200
TZNAME:CEST
DTSTART:20250330T010000
END:DAYLIGHT
BEGIN:STANDARD
TZOFFSETFROM:+0200
TZOFFSETTO:+0100
TZNAME:CET
DTSTART:20251026T010000
END:STANDARD
END:VTIMEZONE
BEGIN:VEVENT
DTSTART;TZID=Europe/Madrid:20251119T093000
DTEND;TZID=Europe/Madrid:20251119T113000
DTSTAMP:20260424T021808
CREATED:20251020T094056Z
LAST-MODIFIED:20251027T154008Z
UID:76969-1763544600-1763551800@www.asociacionmkt.es
SUMMARY:EXCLUSIVO: Workshop | Introducción a la IA corporativa en el mundo del marketing
DESCRIPTION:Llevaremos a cabo el primer workshop dirigido a directores de marketing que buscan tangibilizar la aplicación práctica de la inteligencia artificial en sus departamentos.\nOrganizamos el primer workshop exclusivo para socios AMKT\, dirigido a directores y managers de marketing que quieran pasar de la teoría a la acción e implementar la IA de forma real\, práctica y medible en sus equipos. \nDurante la jornada contaremos con la participación de Toni Andújar\, Corporate Digital & MadTech Director de Palladium Hotel Group\, y Salvador Suárez\, responsable de nuestro Comité de Innovación\, quienes guiarán una sesión repleta de casos reales\, dinámicas de innovación y aprendizajes tangibles. \n__________ \n¿QUÉ PODRÁS DESCUBRIR? \nPresentaremos un whitepaper inédito que revela: \n– Las oportunidades y el valor real de la IA en marketing (cliente\, contenidos\, CX y ROI). \n– Los principales frenos de adopción: datos\, talento\, martech y governance. \n– El caso real del Proyecto Turing (anefp)\, con resultados y aprendizajes clave. \nAdemás\, llevaremos a cabo una dinámica práctica en la que los asistentes podrán trabajar sobre casos reales\, idear casos de uso\, priorizar acciones según su valor y esfuerzo\, y descubrir metodologías efectivas para aplicar en sus propias organizaciones. \nComo cierre\, Grupo Palladium compartirá su caso de éxito en la implementación de IA\, mostrando cómo lograron identificar y alcanzar audiencias altamente relevantes\, optimizar su inversión publicitaria y conseguir que cada mensaje tuviera el máximo impacto. \n__________ \n¿POR QUÉ ASISTIR A ESTE WORKSHOP? \n– Entender las oportunidades de la IA según el tamaño y la madurez de tu empresa. \n– Conocer casos reales con sus barreras\, integraciones y aprendizajes. \n– Activar un modelo de ventas más eficaz mediante la mejora de campañas con modelos de IA. \n  \nEsta jornada se realiza bajo el paraguas de nuestro Comité de Innovación\, en colaboración con el Foro-IA en Marketing\, Comunicación y Experiencia de Cliente (MCX). \nSe trata de un evento exclusivo para socios AMKT y con plazas limitas. Si quieres participar en este taller\, ponte en contacto con nosotros: asociacion@asociacionmkt.es y +34 91 548 49 15 \n  \n
URL:https://www.asociacionmkt.es/evento/exclusivo-workshop-introduccion-a-la-ia-corporativa-en-el-mundo-del-marketing/
LOCATION:Good Rebels\, (Glorieta de Quevedo\, 6\, 2º derecha. Madrid.Chamberí).\, Madrid\, Madrid\, España
CATEGORIES:WORKSHOP
ATTACH;FMTTYPE=image/png:https://www.asociacionmkt.es/wp-content/uploads/2025/10/CREATIVIDAD_FORO-IA-825-x-353-px-1.png
GEO:40.4167279;-3.7032905
X-APPLE-STRUCTURED-LOCATION;VALUE=URI;X-ADDRESS=Good Rebels (Glorieta de Quevedo 6 2º derecha. Madrid.Chamberí). Madrid Madrid España;X-APPLE-RADIUS=500;X-TITLE=(Glorieta de Quevedo\, 6\, 2º derecha. Madrid.Chamberí).:geo:-3.7032905,40.4167279
END:VEVENT
END:VCALENDAR