BEGIN:VCALENDAR
VERSION:2.0
PRODID:-//MKT. Asociación de Marketing de España - ECPv4.9.14//NONSGML v1.0//EN
CALSCALE:GREGORIAN
METHOD:PUBLISH
X-WR-CALNAME:MKT. Asociación de Marketing de España
X-ORIGINAL-URL:https://www.asociacionmkt.es
X-WR-CALDESC:Eventos para MKT. Asociación de Marketing de España
BEGIN:VTIMEZONE
TZID:Europe/Madrid
BEGIN:DAYLIGHT
TZOFFSETFROM:+0100
TZOFFSETTO:+0200
TZNAME:CEST
DTSTART:20230326T010000
END:DAYLIGHT
BEGIN:STANDARD
TZOFFSETFROM:+0200
TZOFFSETTO:+0100
TZNAME:CET
DTSTART:20231029T010000
END:STANDARD
END:VTIMEZONE
BEGIN:VEVENT
DTSTART;TZID=Europe/Madrid:20230209T120000
DTEND;TZID=Europe/Madrid:20230209T130000
DTSTAMP:20260423T222723
CREATED:20230119T115325Z
LAST-MODIFIED:20230123T161741Z
UID:52100-1675944000-1675947600@www.asociacionmkt.es
SUMMARY:«Experience Makers Beyond»\, de Adobe
DESCRIPTION:El próximo 9 de febrero te esperamos en un nuevo evento online sobre Customer Experience de Adobe. ¡Inscríbete!\n¿Quieres elevar tu estrategia de Customer Experience? Nuestro socio empresa colaborador\, Adobe\, te invita a la jornada «Experience Makers Beyond»\, que tendrá lugar el próximo 9 de febrero de forma online. Durante el evento\, podrás inspirarte con los mejores casos extraídos de los últimos eventos de Experience Makers en Europa\, entre ellos Prisa\, Barilla\, Signify (Philips)\, DNB (mayor grupo de servicios financieros de Noruega) y Grundfos. \nNo te pierdas la oportunidad de conocer las últimas tendencias digitales y obtener grandes consejos para mejorar tu plan de experiencia de cliente para este 2023. Todo ello\, de la mano de profesionales de éxito de toda Europa. \n¡Te esperamos el 9 de febrero a partir de las 12:00! Inscríbete aquí: \n  \nREGISTRO\n  \nCompártelo en tus RRSS: \n
URL:https://www.asociacionmkt.es/evento/experience-makers-beyond-de-adobe/
LOCATION:online\, Madrid\, Madrid\, España
CATEGORIES:WEBINAR
ATTACH;FMTTYPE=image/png:https://www.asociacionmkt.es/wp-content/uploads/2023/01/Web-825x353px-1.png
GEO:40.4167754;-3.7037902
END:VEVENT
END:VCALENDAR