BEGIN:VCALENDAR
VERSION:2.0
PRODID:-//MKT. Asociación de Marketing de España - ECPv4.9.14//NONSGML v1.0//EN
CALSCALE:GREGORIAN
METHOD:PUBLISH
X-WR-CALNAME:MKT. Asociación de Marketing de España
X-ORIGINAL-URL:https://www.asociacionmkt.es
X-WR-CALDESC:Eventos para MKT. Asociación de Marketing de España
BEGIN:VTIMEZONE
TZID:Europe/Madrid
BEGIN:DAYLIGHT
TZOFFSETFROM:+0100
TZOFFSETTO:+0200
TZNAME:CEST
DTSTART:20260329T010000
END:DAYLIGHT
BEGIN:STANDARD
TZOFFSETFROM:+0200
TZOFFSETTO:+0100
TZNAME:CET
DTSTART:20261025T010000
END:STANDARD
END:VTIMEZONE
BEGIN:VEVENT
DTSTART;TZID=Europe/Madrid:20260617T083000
DTEND;TZID=Europe/Madrid:20260618T210000
DTSTAMP:20260423T144035
CREATED:20260423T082329Z
LAST-MODIFIED:20260423T083241Z
UID:85038-1781685000-1781816400@www.asociacionmkt.es
SUMMARY:Feria internacional | ExpoRetail Iberoamérica
DESCRIPTION:\nEL PUNTO DE ENCUENTRO IMPRESCINDIBLE PARA EL SECTOR DEL RETAIL \nLlega una cita ineludible para los profesionales del marketing del sector retail. Los días 17 y 18 de junio\, IFEMA Madrid acogerá ExpoRetail Iberoamérica 2026\, una feria internacional en la que conectar con referentes del sector y generar nuevas oportunidades de negocio. \nDisfruta de una experiencia de 4.000 metros cuadrados de exposición. El evento contará con la participación de más de un centenar de ponentes (nacionales e internacionales) y miles de personas ya han confirmado su asistencia a este punto de encuentro para aquellos que no se conforman con seguir las tendencias\, sino que quieren liderarlas. \nEstos son algunos nombres que no te puedes perder: \n\nDaniel Devai\, CEO de Epsilon Technologies\nEnrique Martínez\, CEO global de FNAC\nLaura Ruiz de Galarreta\, directora de Relaciones Institucionales y Comunicación de Ikea Ibérica\nJavier Benavente\, presidente de Vivofácil\n\nLa Asociación de Marketing de España (AMKT)\, como entidad colaboradora\, abre las puertas de ExpoRetail Iberoamérica a sus socios: los interesados podrán asistir de forma gratuita.  \nLa entrada incluye: acceso a la zona de exposición + programación de la Sala Principal + Sala Retail Talks. \nUna oportunidad para aprender de los mejores. Si formas parte del retail\, este es el lugar en el que tienes que estar. \nPrecio de entrada para no socios: 379 €. \n¿Te unes? \n\nINSCRÍBETE\n  \nSi quieres más información\, contacta con atencionalsocio@asociacionmkt.es \n
URL:https://www.asociacionmkt.es/evento/feria-internacional-exporetail-iberoamerica/
LOCATION:IFEMA\,  Av. Partenón\, 5\, Madrid\, Madrid\, 28042\, España
CATEGORIES:FERIAS
ATTACH;FMTTYPE=image/png:https://www.asociacionmkt.es/wp-content/uploads/2026/04/Banner-WEB-1100x400-1.png
GEO:40.4642917;-3.6163927
X-APPLE-STRUCTURED-LOCATION;VALUE=URI;X-ADDRESS=IFEMA  Av. Partenón 5 Madrid Madrid 28042 España;X-APPLE-RADIUS=500;X-TITLE=Av. Partenón\, 5:geo:-3.6163927,40.4642917
END:VEVENT
END:VCALENDAR