BEGIN:VCALENDAR
VERSION:2.0
PRODID:-//MKT. Asociación de Marketing de España - ECPv4.9.14//NONSGML v1.0//EN
CALSCALE:GREGORIAN
METHOD:PUBLISH
X-WR-CALNAME:MKT. Asociación de Marketing de España
X-ORIGINAL-URL:https://www.asociacionmkt.es
X-WR-CALDESC:Eventos para MKT. Asociación de Marketing de España
BEGIN:VTIMEZONE
TZID:Europe/Madrid
BEGIN:DAYLIGHT
TZOFFSETFROM:+0100
TZOFFSETTO:+0200
TZNAME:CEST
DTSTART:20170326T010000
END:DAYLIGHT
BEGIN:STANDARD
TZOFFSETFROM:+0200
TZOFFSETTO:+0100
TZNAME:CET
DTSTART:20171029T010000
END:STANDARD
END:VTIMEZONE
BEGIN:VEVENT
DTSTART;TZID=Europe/Madrid:20170608T190000
DTEND;TZID=Europe/Madrid:20170608T190000
DTSTAMP:20260424T021553
CREATED:20170518T081632Z
LAST-MODIFIED:20170518T081632Z
UID:13785-1496948400-1496948400@www.asociacionmkt.es
SUMMARY:Gala de entrega IX Premios Nacionales de Marketing
DESCRIPTION:La Asociación de Marketing de España otorga cada año los Premios Nacionales de Marketing para reconocer el trabajo de las empresas\, instituciones y profesionales que destacan por su buen Marketing y por su contribución a la difusión e implantación del Marketing en las empresas y en las instituciones. \nLa gala de entrega de los IX Premios Nacionales de Marketing se celebrará el jueves 8 de junio en el Hipódromo de la Zarzuela. Este emblemático espacio será el lugar perfecto para disfrutar de la entrega de premios y degustar un cocktail junto a los representantes más significativos del mundo del marketing. \nNo te pierdas la espectacular gala de entrega de los IX Premios Nacionales de Marketing\, una cita ineludible para todos los profesionales del sector. El plazo de inscripción está abierto así que no lo dejes pasar y hazte ya con tu entrada. ¡Te esperamos el día 8 de junio en el Hipódromo de la Zarzuela! \nToda la información aquí \n¡HAZTE YA CON TU ENTRADA! \n  \n
URL:https://www.asociacionmkt.es/evento/gala-entrega-ix-premios-nacionales-marketing/
ATTACH;FMTTYPE=image/jpeg:https://www.asociacionmkt.es/wp-content/uploads/2017/05/Web-Evento.jpg
END:VEVENT
END:VCALENDAR