BEGIN:VCALENDAR
VERSION:2.0
PRODID:-//MKT. Asociación de Marketing de España - ECPv4.9.14//NONSGML v1.0//EN
CALSCALE:GREGORIAN
METHOD:PUBLISH
X-WR-CALNAME:MKT. Asociación de Marketing de España
X-ORIGINAL-URL:https://www.asociacionmkt.es
X-WR-CALDESC:Eventos para MKT. Asociación de Marketing de España
BEGIN:VTIMEZONE
TZID:Europe/Madrid
BEGIN:DAYLIGHT
TZOFFSETFROM:+0100
TZOFFSETTO:+0200
TZNAME:CEST
DTSTART:20180325T010000
END:DAYLIGHT
BEGIN:STANDARD
TZOFFSETFROM:+0200
TZOFFSETTO:+0100
TZNAME:CET
DTSTART:20181028T010000
END:STANDARD
END:VTIMEZONE
BEGIN:VEVENT
DTSTART;TZID=Europe/Madrid:20180523T093000
DTEND;TZID=Europe/Madrid:20180523T113000
DTSTAMP:20260424T051037
CREATED:20180508T112359Z
LAST-MODIFIED:20180508T112359Z
UID:17547-1527067800-1527075000@www.asociacionmkt.es
SUMMARY:GEOMARKETING Y NEGOCIO: CÓMO UTILIZAR LOS MAPAS PARA DISEÑAR TU ESTRATEGIA
DESCRIPTION:En el mundo empresarial actual\, el dato transformado en inteligencia es la clave del éxito. El objetivo\, por tanto\, ya no es tanto disponer de una cartera de clientes fieles a la marca\, sino conseguir su mayor y más valioso activo: información. Información sobre quiénes son\, qué hacen\, qué les gusta y qué les disgusta\, dónde están\, dónde les gusta ir\, con quién… En definitiva\, se trata de un giro en el que el consumidor toma las riendas de la relación con las empresas y éstas deben aprender a marchas forzadas estos nuevos modelos. Hoy ya no vales por cuánto sabes\, sino por cuánta información estás dispuesto a dar. En este mar de información inagotable\, el componente espacial de la información es imprescindible de cara a analizar con éxito los patrones y comportamientos de nuestros clientes y poder tomar las decisiones estratégicas adecuadas. \nPara abordar estas cuestiones\, el 23 de mayo celebramos en el Salón de Actos de EAE Business School la jornada “Geomarketing y negocio: cómo utilizar los mapas para diseñar tu estrategia”.\n  \nEstructura de la jornada:\n– Introducción\n– Sistemas de información espacial orientados al marketing\n– El dato\, ese gran desconocido\n– Empresas “data centric” y clientes digitales: creados para entenderse\n– Cómo aprovechar la información en la era de la 4ª ola\n– CRM & e-CRM: dos caras de la misma moneda\n– El dato espacial como variable estratégica de negocio\n– Los sistemas de información geográfica para la explotación del dato georeferenciado\n– Geoprocesamiento y análisis espacial\n– Visualización para la toma de decisiones y la identificación de patrones\n  \nPonentes:\nIgnacio Rodríguez\, responsable técnico en Quantic Solutions\nLicenciado en Ciencias Biológicas y Master en Información Geográfica por la City University de Londres\, Ignacio cuenta con más de veinte años de experiencia profesional en sistemas de información geográfica y tecnologías de la información geoespacial. \nDesde sus inicios en Esri España y Esri USA hasta la actualidad\, se ha vinculado a varios proyectos\, startups y grandes empresas\, siempre con un elevado componente tecnológico y de innovación. \n  \nAntonio Tena\, CRM y Data Analytics Manager en Quantic Solutions\nLicenciado en Publicidad y Relaciones Públicas por la UCM y Licenciado en Marketing por la Universidad Pontificia Comillas ICAI-ICADE\, Antonio es un referente del sector del márketing y las nuevas tecnologías con más de veinte años de experiencia. \nHa desarrollado numerosos proyectos de CRM y fidelización para multinacionales\, liderando sobre todo equipos internacionales. Además\, está especializado en estrategias de transformación digital. \n  \nMarcos Rojo\, responsable global en Quantic Solutions\n \nMarcos lidera el área de Innovación y Tecnología de Mediapost Group\, donde ha sido responsable global de Quantic Solutions durante los tres últimos años. Desde esta unidad de negocio\, encargada del tratamiento de bases de datos\, enriquecimiento\, normalización y análisis de información\, se ayuda a las compañías a la tomar decisiones estratégicas gracias al Smart data. Tras años de experiencia profesional en el ámbito de los sistemas de información geográfica\, es un apasionado por la tecnología y las posibilidades que ofrece para hacer del mundo un lugar mejor. \n  \nEntradas:\nLa inscripción tiene un precio de 40€ y es gratuita para socios de MKT.\nINSCRIPCIÓN SOCIOS\nINSCRIPCIÓN GENERAL \nEn colaboración con:\n \n
URL:https://www.asociacionmkt.es/evento/geomarketing-y-negocio-como-utilizar-los-mapas-para-disenar-tu-estrategia/
LOCATION:EAE Business School\, C. de Joaquín Costa\, 41\, Madrid\, 28002\, España
ATTACH;FMTTYPE=image/jpeg:https://www.asociacionmkt.es/wp-content/uploads/2018/05/MKTGeolocalización2.jpg
GEO:40.4438133;-3.6837756
X-APPLE-STRUCTURED-LOCATION;VALUE=URI;X-ADDRESS=EAE Business School C. de Joaquín Costa 41 Madrid 28002 España;X-APPLE-RADIUS=500;X-TITLE=C. de Joaquín Costa\, 41:geo:-3.6837756,40.4438133
END:VEVENT
END:VCALENDAR