BEGIN:VCALENDAR
VERSION:2.0
PRODID:-//MKT. Asociación de Marketing de España - ECPv4.9.14//NONSGML v1.0//EN
CALSCALE:GREGORIAN
METHOD:PUBLISH
X-WR-CALNAME:MKT. Asociación de Marketing de España
X-ORIGINAL-URL:https://www.asociacionmkt.es
X-WR-CALDESC:Eventos para MKT. Asociación de Marketing de España
BEGIN:VTIMEZONE
TZID:Europe/Madrid
BEGIN:DAYLIGHT
TZOFFSETFROM:+0100
TZOFFSETTO:+0200
TZNAME:CEST
DTSTART:20220327T010000
END:DAYLIGHT
BEGIN:STANDARD
TZOFFSETFROM:+0200
TZOFFSETTO:+0100
TZNAME:CET
DTSTART:20221030T010000
END:STANDARD
END:VTIMEZONE
BEGIN:VEVENT
DTSTART;TZID=Europe/Madrid:20221220T093000
DTEND;TZID=Europe/Madrid:20221220T103000
DTSTAMP:20260425T022712
CREATED:20221007T085827Z
LAST-MODIFIED:20230523T085922Z
UID:50175-1671528600-1671532200@www.asociacionmkt.es
SUMMARY:Presentación del Estudio IEDM: Índice de Expectativas de los Directores de Marketing
DESCRIPTION:EL PRÓXIMO 20 DE DICIEMBRE A PARTIR DE LAS 9:30 REALIZAREMOS LA PRESENTACIÓN DEL ESTUDIO IEDM DEL PRIMER SEMESTRE DEL 2023.\n\nEl Estudio IEDM es un informe que realizamos junto a GfK en el que\, en base a una muestra representativa de empresas de diferentes sectores\, se mide el grado de expectativas de sus directores de marketing respecto a la evolución de sus mercados\, obteniendo por tanto un indicador valioso y fiable del comportamiento de la economía global. \nEste índice de profesionales para profesionales\, permite disponer de información relevante\, fiable y objetiva tanto cuantitativa como cualitativa en base a las previsiones de los directores de marketing respecto al comportamiento de sus marcas\, inversión publicitaria\, ventas\, etc. También\, ofrece información respecto a los sectores analizados así como otros temas concretos que se introducen en función del contexto actual. \nTe invitamos el próximo 20 de diciembre de 9:30 a 10:30 junto a Víctor Conde y Javier Gómez\, coordinadores del proyecto\, a unirte a la presentación del IEDM en el Consejo General de Economistas de España (Calle de Nicasio Gallego 8\, 28010 Madrid). \n  \nREGISTRO\n  \n> PUEDES ACCEDER AQUÍ A LA VERSIÓN PÚBLICA DEL ESTUDIO IEDM ANTERIOR\n\nSI ERES SOCIO DE AMKT\, TIENES A TU DISPOSICIÓN EL ESTUDIO COMPLETO EN EL ÁREA DE SOCIOS.\n  \nCompártelo en tus RRSS con #IEDM: \n
URL:https://www.asociacionmkt.es/evento/iedm-primer-semestre-2023/
LOCATION:Consejo General de Economistas\, Calle de Nicasio Gallego\, 8\, Madrid\, Madrid\, 28010\, España
CATEGORIES:PRESENTACIONES (estudios, informes, libros...)
ATTACH;FMTTYPE=image/png:https://www.asociacionmkt.es/wp-content/uploads/2022/10/IEDM_web.png
GEO:40.4293756;-3.6994382
X-APPLE-STRUCTURED-LOCATION;VALUE=URI;X-ADDRESS=Consejo General de Economistas Calle de Nicasio Gallego 8 Madrid Madrid 28010 España;X-APPLE-RADIUS=500;X-TITLE=Calle de Nicasio Gallego\, 8:geo:-3.6994382,40.4293756
END:VEVENT
END:VCALENDAR