BEGIN:VCALENDAR
VERSION:2.0
PRODID:-//MKT. Asociación de Marketing de España - ECPv4.9.14//NONSGML v1.0//EN
CALSCALE:GREGORIAN
METHOD:PUBLISH
X-WR-CALNAME:MKT. Asociación de Marketing de España
X-ORIGINAL-URL:https://www.asociacionmkt.es
X-WR-CALDESC:Eventos para MKT. Asociación de Marketing de España
BEGIN:VTIMEZONE
TZID:Europe/Madrid
BEGIN:DAYLIGHT
TZOFFSETFROM:+0100
TZOFFSETTO:+0200
TZNAME:CEST
DTSTART:20230326T010000
END:DAYLIGHT
BEGIN:STANDARD
TZOFFSETFROM:+0200
TZOFFSETTO:+0100
TZNAME:CET
DTSTART:20231029T010000
END:STANDARD
END:VTIMEZONE
BEGIN:VEVENT
DTSTART;TZID=Europe/Madrid:20230602T093000
DTEND;TZID=Europe/Madrid:20230602T123000
DTSTAMP:20260423T182333
CREATED:20230510T150842Z
LAST-MODIFIED:20230524T092518Z
UID:53589-1685698200-1685709000@www.asociacionmkt.es
SUMMARY:II Foro Alianzas Empresa y Cultura
DESCRIPTION:El próximo 2 de junio te invitamos al II Foro Alianzas Empresa y Cultura\, en el que presentaremos el nuevo Comité de Marketing Cultural de AMKT.\n  \nLa cultura forma parte de nuestro ser y configura nuestro estilo de vida\, nuestros valores y creencias\, nuestro idioma y expresividad\, nuestro saber y modo de entender la vida. Las marcas de vanguardia\, conscientes del gran poder transformador de la cultura\, apuestan por desarrollar estrategias con las herramientas que ofrece la cultura para llegar a sus principales públicos. En este sentido\, bajo el título «Cultura y sostenibilidad: impulsando las marcas del futuro»\, el próximo día 2 de junio\, ymás celebrará su II Foro Alianzas Empresa y Cultura\, con la colaboración de la Asociación de Marketing de España\, en el Pabellón de CaixaBank de la Feria del Libro de Madrid. \nAdemás\, como sabes\, como muestra de nuestro apoyo a la cultura y su importancia en la actividad empresarial\, hemos impulsado un nuevo Comité de Marketing Cultural y aprovecharemos esta ocasión para presentarlo de manera oficial ante todos los asistentes. ¡No te lo puedes perder! \n  \nAGENDA \n9:30 | Registro & café-networking \n10:00 | Apertura y bienvenida \n\nAntonio Resines\, presidente de ymás\nEva Orúe\, directora de la Feria del Libro de Madrid\n\n10:15 | Introducción de Coté Soler\, CEO de ymás \n10:15 – 11:00 | Mesa redonda: «¿Cómo impacta la cultura en la sostenibilidad?» \n\nAlfons Martinell\, coordinador de Cultura de la Red Española para el Desarrollo Sostenible\n Julia Sánchez\, CEO de la Escuela Superior de Música Reina Sofía\nMiguel Zarzuelo\, CEO de Welink\nModera: Inma Gómez-Lobo\, periodista\n\n11:00 – 11:45 | Mesa redonda: «La experiencia de las empresas que impulsan la cultura»\n \n\nJavier Cantera\, presidente de Auren Consultores\nGemma Juncá\, directora de Marca y Marketing de Iberia\nMaría Lacasa\, directora de Marca\, Patrocinios y Contenidos de Endesa\nModera: Inma Gómez-Lobo\, periodista\n\n11:45 – 12:00 | Presentación del Comité de Marketing Cultural de la Asociación de Marketing de España \nPrincipales conclusiones\, despedida y cierre. \n\nCoté Soler\, CEO de ymás y coordinador del Comité de Marketing Cultural de AMKT\n\n12:00 – 12:30 | Picoteo & networking \n  \nREGISTRO\n  \nCompártelo en tus RRSS #AMKTCultura: \n
URL:https://www.asociacionmkt.es/evento/ii-foro-alianzas-empresa-y-cultura/
LOCATION:Feria del Libro de Madrid. Pabellón de Caixabank\, Madrid\, Madrid\, España
CATEGORIES:JORNADAS
ATTACH;FMTTYPE=image/png:https://www.asociacionmkt.es/wp-content/uploads/2023/05/II-Foro-Alianzas-Empresa-y-Cultura-Preview-825-×353-px.png
GEO:40.4167754;-3.7037902
END:VEVENT
END:VCALENDAR