BEGIN:VCALENDAR
VERSION:2.0
PRODID:-//MKT. Asociación de Marketing de España - ECPv4.9.14//NONSGML v1.0//EN
CALSCALE:GREGORIAN
METHOD:PUBLISH
X-WR-CALNAME:MKT. Asociación de Marketing de España
X-ORIGINAL-URL:https://www.asociacionmkt.es
X-WR-CALDESC:Eventos para MKT. Asociación de Marketing de España
BEGIN:VTIMEZONE
TZID:Europe/Madrid
BEGIN:DAYLIGHT
TZOFFSETFROM:+0100
TZOFFSETTO:+0200
TZNAME:CEST
DTSTART:20170326T010000
END:DAYLIGHT
BEGIN:STANDARD
TZOFFSETFROM:+0200
TZOFFSETTO:+0100
TZNAME:CET
DTSTART:20171029T010000
END:STANDARD
END:VTIMEZONE
BEGIN:VEVENT
DTSTART;TZID=Europe/Madrid:20170614T090000
DTEND;TZID=Europe/Madrid:20170614T113000
DTSTAMP:20260424T004327
CREATED:20170529T073459Z
LAST-MODIFIED:20170529T073459Z
UID:13892-1497430800-1497439800@www.asociacionmkt.es
SUMMARY:II FORO eSPORTS: LA MONETIZACIÓN Y SUS RETOS
DESCRIPTION:Tras el éxito del I Foro eSports que se celebró en abril (en modalidad “sin público”\, pero con repercusión en medios)\, y tras comprobar la gran expectativa que genera el tema de eSports entre la sociedad y\, en especial\, entre los “stakeholders” del ecosistema\, con especial énfasis en los departamentos de marketing y en las “properties”\, el capítulo Marketing Deportivo de la Asociación de Marketing de España ha decidido “abrir” el Foro a todos aquellos profesionales del sector que desean profundizar en el conocimiento de eSports.\nEl tema central del II Foro eSports es el de la “monetización” y se debatirán temas como: ¿Cuáles son los principales “stakeholders” del ecosistema de eSports? ¿Dónde están las principales oportunidades de monetización? ¿Cuál es el rol de los patrocinadores? ¿Qué papel juegan y jugarán los “publishers” en el proceso de monetización? ¿Cómo se llega de manera eficiente a los “millennials” y “nativos digitales” a través de los eSports?\nEl Foro se celebrará el próximo miércoles 14 de junio en el Auditorio de Banco Sabadell (c/ Serrano\, 71).\nMás información y programa aquí \nEntradas\nEl Foro el gratuito para socios de la Asociación de Marketing y tiene un precio de 40 euros para no socios.\nINSCRIPCIÓN SOCIOS\nINSCRIPCIÓN NO SOCIOS \n\n
URL:https://www.asociacionmkt.es/evento/ii-foro-esports-la-monetizacion-retos/
LOCATION:Auditorio Banco Sabadell\, c/ Serrano\, 71\, Madrid\, España
CATEGORIES:JORNADAS
ATTACH;FMTTYPE=image/jpeg:https://www.asociacionmkt.es/wp-content/uploads/2017/05/foro-esports-evento-mktdeportivo-1.jpg
GEO:40.4338959;-3.6868981
X-APPLE-STRUCTURED-LOCATION;VALUE=URI;X-ADDRESS=Auditorio Banco Sabadell c/ Serrano 71 Madrid España;X-APPLE-RADIUS=500;X-TITLE=c/ Serrano\, 71:geo:-3.6868981,40.4338959
END:VEVENT
END:VCALENDAR