BEGIN:VCALENDAR
VERSION:2.0
PRODID:-//MKT. Asociación de Marketing de España - ECPv4.9.14//NONSGML v1.0//EN
CALSCALE:GREGORIAN
METHOD:PUBLISH
X-WR-CALNAME:MKT. Asociación de Marketing de España
X-ORIGINAL-URL:https://www.asociacionmkt.es
X-WR-CALDESC:Eventos para MKT. Asociación de Marketing de España
BEGIN:VTIMEZONE
TZID:Europe/Madrid
BEGIN:DAYLIGHT
TZOFFSETFROM:+0100
TZOFFSETTO:+0200
TZNAME:CEST
DTSTART:20170326T010000
END:DAYLIGHT
BEGIN:STANDARD
TZOFFSETFROM:+0200
TZOFFSETTO:+0100
TZNAME:CET
DTSTART:20171029T010000
END:STANDARD
END:VTIMEZONE
BEGIN:VEVENT
DTSTART;TZID=Europe/Madrid:20171018T093000
DTEND;TZID=Europe/Madrid:20171018T111500
DTSTAMP:20260425T103118
CREATED:20170911T153153Z
LAST-MODIFIED:20170911T153153Z
UID:14393-1508319000-1508325300@www.asociacionmkt.es
SUMMARY:III Foro eSports: del engagement al negocio
DESCRIPTION:Ante el imparable crecimiento de los eSports tanto en términos económicos como en impacto mediático\, la Asociación Nacional de Marketing de España organizará el próximo 18 de octubre el que será el III Foro eSports que nace avalado por el éxito de los dos anteriores.\nUna mesa redonda multidisciplinar\, llena de expertos\, debatirá en el Movistar eSports Center sobre los numerosos retos que presenta el paso de engagement a la articulación de modelos de negocio sostenibles. Este debate se encuadra dentro de las actividades sobre el marketing deportivo llevadas a cabo por la Asociación. \nParticipantes\nEl debate estará moderado por Carlos Cantó\, vocal de la Asociación de Marketing de España\, y contará con las intervenciones de:\n· Sergi Mesonero – LVP (Liga Videojuegos Profesional)\n· Dante Cacciatore – Movistar/Telefónica\n· Manuel Moreno – ESL\n· José María Moreno – AEVI (Asociación Española de Videojuegos)\n· Sergio Benet – WEC y Valencia eSports\n· José Parrilla – Anderground\n· Ángel Echavarren – Deloitte \nInscripción:\nLas entradas son gratuitas para socios de MKT y tienen un precio de 40€ para no socios.\nINSCRIPCIÓN SOCIOS\nINSCRIPCIÓN NO SOCIOS\n \n¿Vienes al III Foro eSports? ¡Únete a nuestro evento de Facebook!\n  \nCon la colaboración de:\n\n  \n
URL:https://www.asociacionmkt.es/evento/iii-foro-esports/
LOCATION:Movistar eSports Center (Casa del Lector – Matadero Madrid)\, Paseo de la Chopera\, 14\, Madrid\, Madrid\, 28045\, España
CATEGORIES:CONFERENCIAS
ATTACH;FMTTYPE=image/jpeg:https://www.asociacionmkt.es/wp-content/uploads/2017/09/iii-foro-esports-evento.jpg
GEO:40.3923033;-3.69743
X-APPLE-STRUCTURED-LOCATION;VALUE=URI;X-ADDRESS=Movistar eSports Center (Casa del Lector – Matadero Madrid) Paseo de la Chopera 14 Madrid Madrid 28045 España;X-APPLE-RADIUS=500;X-TITLE=Paseo de la Chopera\, 14:geo:-3.69743,40.3923033
END:VEVENT
END:VCALENDAR