BEGIN:VCALENDAR
VERSION:2.0
PRODID:-//MKT. Asociación de Marketing de España - ECPv4.9.14//NONSGML v1.0//EN
CALSCALE:GREGORIAN
METHOD:PUBLISH
X-WR-CALNAME:MKT. Asociación de Marketing de España
X-ORIGINAL-URL:https://www.asociacionmkt.es
X-WR-CALDESC:Eventos para MKT. Asociación de Marketing de España
BEGIN:VTIMEZONE
TZID:Europe/Madrid
BEGIN:DAYLIGHT
TZOFFSETFROM:+0100
TZOFFSETTO:+0200
TZNAME:CEST
DTSTART:20170326T010000
END:DAYLIGHT
BEGIN:STANDARD
TZOFFSETFROM:+0200
TZOFFSETTO:+0100
TZNAME:CET
DTSTART:20171029T010000
END:STANDARD
END:VTIMEZONE
BEGIN:VEVENT
DTSTART;TZID=Europe/Madrid:20170608T090000
DTEND;TZID=Europe/Madrid:20170608T140000
DTSTAMP:20260424T023135
CREATED:20170504T100425Z
LAST-MODIFIED:20170504T100425Z
UID:13735-1496912400-1496930400@www.asociacionmkt.es
SUMMARY:III PureMobile: El evento de la movilidad
DESCRIPTION:No hay ninguna empresa que no esté pensando en cómo acometer la movilidad como parte de su estrategia. En PureMobile\, MMA Spain quiere mostrar experiencias y soluciones que nos hablen de cómo se está acometiendo esta adaptación al mundo del movilidad. Porque la “Transformación Digital” es realmente la “Adaptación” a un mundo ubicuo como es lo que representa el móvil.\nEste año la agenda cubrirá experiencias de diferentes sectores: Finanzas\, Seguros\, Salud o Retail entre otros. Compartirán con nosotros sus experiencias y conocimientos\, reconocidos profesionales del mundo del desarrollo y la investigación en tecnología de movilidad\, agencias\, anunciantes y consultoras.\nEste evento será una ocasión excepcional de conocer las últimas tendencias en movilidad y casos de éxito de primera mano de marcas\, desarrolladores o innovadores en marketing móvil.\nMás información aquí\n  \nEntradas:\n¡No te pierdas el evento móvil del año!\nLos socios de MKT pueden conseguir su entrada a un precio especial de 50 euros. \nSi eres socio de MKT\, solicita aquí tu código de descuento\n \nEntrada general: 85€\nCompra tus entradas aquí\n \n \n  \n
URL:https://www.asociacionmkt.es/evento/iii-puremobile-evento-la-movilidad/
LOCATION:Mutua Madrileña Madrid\, Paseo de la Castellana 33\, Madrid\, Madrid\, España
CATEGORIES:CONGRESOS
ATTACH;FMTTYPE=image/jpeg:https://www.asociacionmkt.es/wp-content/uploads/2017/05/puremobile.jpg
ORGANIZER;CN="MMA":MAILTO:info@mmaspain.org
GEO:40.4324806;-3.6894577
X-APPLE-STRUCTURED-LOCATION;VALUE=URI;X-ADDRESS=Mutua Madrileña Madrid Paseo de la Castellana 33 Madrid Madrid España;X-APPLE-RADIUS=500;X-TITLE=Paseo de la Castellana 33:geo:-3.6894577,40.4324806
END:VEVENT
END:VCALENDAR