BEGIN:VCALENDAR
VERSION:2.0
PRODID:-//MKT. Asociación de Marketing de España - ECPv4.9.14//NONSGML v1.0//EN
CALSCALE:GREGORIAN
METHOD:PUBLISH
X-WR-CALNAME:MKT. Asociación de Marketing de España
X-ORIGINAL-URL:https://www.asociacionmkt.es
X-WR-CALDESC:Eventos para MKT. Asociación de Marketing de España
BEGIN:VTIMEZONE
TZID:Europe/Madrid
BEGIN:DAYLIGHT
TZOFFSETFROM:+0100
TZOFFSETTO:+0200
TZNAME:CEST
DTSTART:20220327T010000
END:DAYLIGHT
BEGIN:STANDARD
TZOFFSETFROM:+0200
TZOFFSETTO:+0100
TZNAME:CET
DTSTART:20221030T010000
END:STANDARD
END:VTIMEZONE
BEGIN:VEVENT
DTSTART;TZID=Europe/Madrid:20220324T093000
DTEND;TZID=Europe/Madrid:20220324T103000
DTSTAMP:20260423T162559
CREATED:20220309T140026Z
LAST-MODIFIED:20220323T175237Z
UID:44887-1648114200-1648117800@www.asociacionmkt.es
SUMMARY:Presentación del IV estudio de Marketing Relacional de Mediapost
DESCRIPTION:Debido a la situación compleja que hemos atravesado desde que comenzó la pandemia\, las marcas del sector retail han puesto a prueba su resiliencia\, adaptándose a cambios continuos. Con el objetivo de proporcionar una visión ampliada del escenario actual\, en su IV Estudio de Marketing Relacional\, Mediapost ha puesto el foco de atención en la relación de más de 2000 consumidores con los retailers y recoge datos sobre sus compras online durante el 2021. ¿Qué canales prefieren para informarse mejor? ¿Cuántas marcas han descubierto en el último año? ¿Qué tipo de promociones son sus favoritas? ¿Cuál es la familia de producto más comprada en tienda online? ¿Cómo valoran su experiencia de compra en el retail? \nAdemás\, el estudio recoge un total de 23 aspectos relacionales que describen el comportamiento del consumidor y explica lo que esperan de marcas y retailers para este 2022. \nBajo el título «El despertar de las marcas y retailers»\, la presentación del IV Estudio de Marketing Relacional de Mediapost se realizará en streaming el 24 de marzo de 9:30 a 10:30 y la llevará a cabo Antonio Tena\, International full-stack Marketing en Mediapost\, acompañado por nuestro director general\, Víctor Conde\, quien dará la bienvenida. \n\nREGISTRO\n\nCompártelo en tus RRSS #EstudioMktRelacional: \n
URL:https://www.asociacionmkt.es/evento/iv-estudio-de-marketing-relacional-mediapost/
LOCATION:online\, Madrid\, Madrid\, España
CATEGORIES:PRESENTACIONES (estudios, informes, libros...)
ATTACH;FMTTYPE=image/jpeg:https://www.asociacionmkt.es/wp-content/uploads/2022/03/IV-Estudio-de-Marketing-Relacional-_Promo-_Web.jpg
GEO:40.4167754;-3.7037902
END:VEVENT
END:VCALENDAR