BEGIN:VCALENDAR
VERSION:2.0
PRODID:-//MKT. Asociación de Marketing de España - ECPv4.9.14//NONSGML v1.0//EN
CALSCALE:GREGORIAN
METHOD:PUBLISH
X-WR-CALNAME:MKT. Asociación de Marketing de España
X-ORIGINAL-URL:https://www.asociacionmkt.es
X-WR-CALDESC:Eventos para MKT. Asociación de Marketing de España
BEGIN:VTIMEZONE
TZID:Europe/Madrid
BEGIN:DAYLIGHT
TZOFFSETFROM:+0100
TZOFFSETTO:+0200
TZNAME:CEST
DTSTART:20190331T010000
END:DAYLIGHT
BEGIN:STANDARD
TZOFFSETFROM:+0200
TZOFFSETTO:+0100
TZNAME:CET
DTSTART:20191027T010000
END:STANDARD
END:VTIMEZONE
BEGIN:VEVENT
DTSTART;TZID=Europe/Madrid:20191030T090000
DTEND;TZID=Europe/Madrid:20191030T130000
DTSTAMP:20260424T040100
CREATED:20190927T121440Z
LAST-MODIFIED:20190927T121440Z
UID:23675-1572426000-1572440400@www.asociacionmkt.es
SUMMARY:IV JORNADA ANUAL GRUPO INRED
DESCRIPTION:El Grupo INRED organiza su IV jornada anual: La comunicación que hace relevante una marca.\nSerá el 30 de octubre en el Auditorio Bankia y tratará sobre la creatividad\, tecnología\, datos e integración como herramienta de la nueva comunicación.\n \nPROGRAMA\n9:20 Recepción de los asistentes\n9:45 Bienvenida a los asistentes: Pedro Montero\, director ejecutivo del Grupo INRED\n10:00 Retrato de España en función de sus marcas: Gerardo Raído\, director de MK\n10:20 Nissan “Somos de aquí”: Ciyril Allandrieu\, Diler Manager\n10:40 Ecovidrio “Orgullo de reciclar vidrio”: Borja Martiarena\, director de MK\n11:00 Stubhub. Comunicación cuantificable: Adrian Elliot y David Simon. Grayling\n11:20 Sanitas. Reinventando las promociones en el móvil\n11:40 Influencers Marketing. Juan Antonio Roncero\, CoFunder Social Publi\n12:00 Restaurantes Contra el Hambre: guía retaurantes buenos\n12:30 Cierre: Luis Piquer\, CEO Grupo INRED\n13:00 Vino español\nConduce la jornada Noemí Boza\, directora general de Más Cuota \n> Puedes inscribirte de manera gratuita en este enlace\n  \n
URL:https://www.asociacionmkt.es/evento/iv-jornada-anual-grupo-inred/
LOCATION:Auditorio Bankia\, Paseo de la Castellana\, 189\, Madrid\, Madrid\, 28029\, España
CATEGORIES:JORNADAS
ATTACH;FMTTYPE=image/jpeg:https://www.asociacionmkt.es/wp-content/uploads/2019/09/jornada-INRED-evento-ok.jpg
GEO:40.467064;-3.690177
X-APPLE-STRUCTURED-LOCATION;VALUE=URI;X-ADDRESS=Auditorio Bankia Paseo de la Castellana 189 Madrid Madrid 28029 España;X-APPLE-RADIUS=500;X-TITLE=Paseo de la Castellana\, 189:geo:-3.690177,40.467064
END:VEVENT
END:VCALENDAR