BEGIN:VCALENDAR
VERSION:2.0
PRODID:-//MKT. Asociación de Marketing de España - ECPv4.9.14//NONSGML v1.0//EN
CALSCALE:GREGORIAN
METHOD:PUBLISH
X-WR-CALNAME:MKT. Asociación de Marketing de España
X-ORIGINAL-URL:https://www.asociacionmkt.es
X-WR-CALDESC:Eventos para MKT. Asociación de Marketing de España
BEGIN:VTIMEZONE
TZID:Europe/Madrid
BEGIN:DAYLIGHT
TZOFFSETFROM:+0100
TZOFFSETTO:+0200
TZNAME:CEST
DTSTART:20200329T010000
END:DAYLIGHT
BEGIN:STANDARD
TZOFFSETFROM:+0200
TZOFFSETTO:+0100
TZNAME:CET
DTSTART:20201025T010000
END:STANDARD
END:VTIMEZONE
BEGIN:VEVENT
DTSTART;TZID=Europe/Madrid:20200227T084500
DTEND;TZID=Europe/Madrid:20200227T140000
DTSTAMP:20260423T173828
CREATED:20200131T085128Z
LAST-MODIFIED:20200911T071118Z
UID:29453-1582793100-1582812000@www.asociacionmkt.es
SUMMARY:IX EDICIÓN DEL OBSERVATORIO DE BRANDING EN MADRID
DESCRIPTION:Vivimos en entornos cambiantes\, globalizados y complejos donde nuestras marcas se ven en la necesidad de ajustarse a las nuevas reglas de juego\, players\,  paradigmas de funcionamiento y de gestión y expectativas por parte de los públicos.\nYa se trate de marcas muy establecidas o de marcas recién llegadas\, todas tienen que afrontar el reto de sobrevivir al paso del tiempo.\nDentro del campo de la transformación de la marca\, cobran especial relevancia dos aspectos de gestión relevantes: la digitalización y la globalización de las marcas.\nEn la IX edición del Observatorio de Branding estudiaremos\, desde distintos puntos de vista y de la mano de reconocidos expertos\, cómo afrontar con éxito la necesaria transformación de nuestras marcas en plena digitalización y globalización\, teniendo en cuenta nuevos disruptores o modelos de negocio.\nUna cita imprescindible en la agenda de los directores de Marketing\, gestores de marca y empresas.\nTe esperamos para participar un año más en esta nueva edición del Observatorio\, cuyo lema es Get inspired\, Get transformed\, Get ready\, donde podrás compartir tus inquietudes en un campo tan apasionante y actual. \nAGENDA\n08:45 – 09:30 Acreditación\n09:30 – 09:40 Apertura: Víctor Mirabet\, vicepresidente de Summa Branding\n09:40 – 10:10 Rompiendo fronteras: tendencias e insights \n\nPilar McCrory\, Digital Market Insights en GfK\nJavier Gómez\, Brand\, Comms and Customer Experience en GfK\n\n10:10 – 10:40 Marcas y algoritmos: el branding en la era del Machine Learning \n\nAleix Gabarre\, director de Estrategia en Summa Branding\n\n10:40 – 11:10 El orden de las cosas ha cambiado \n\nBeatriz Navarro\, directora de Marketing y Comunicación en Fnac\n\n11:10 – 11:45 Coffee break \n11:45 – 12:30 Mesa redonda. El reto digital: las claves para una transformación exitosa \n\nEva Pavo\, directora de Comunicación y Marketing en Correos\nRosa González\, directora de Marca y Cultura Corporativa en Banco Santander\n\nModerada por Víctor Conde\, director general de la Asociación de Marketing de España \n12:30 – 13:15 Mesa redonda. Marcas con pasaporte: el secreto de competir y crecer en los mercados globales \n\nAnna Albert\, Global Corporate Communications Manager en Applus\nSantiago Alfonso\, director de Marketing en Cosentino\nTeresa Díaz-Faes\, directora de Comunicación en Grupo Nueva Pescanova\n\nModerada por Pablo López\, director general del Foro de Marcas Renombradas Españolas \n13:15 – 13:30 Cierre y conclusiones a cargo de Víctor Mirabet\, vicepresidente de Summa Branding \n> Regístrate aquí de manera gratuita\n\n
URL:https://www.asociacionmkt.es/evento/ix-edicion-del-observatorio-de-branding-en-madrid/
LOCATION:ENDESA\, Ribera del Loira\, 60\, Madrid\, España
CATEGORIES:JORNADAS
ATTACH;FMTTYPE=image/jpeg:https://www.asociacionmkt.es/wp-content/uploads/2020/01/observarorio_Madrid_evento.jpg
GEO:40.4601829;-3.6183237
X-APPLE-STRUCTURED-LOCATION;VALUE=URI;X-ADDRESS=ENDESA Ribera del Loira 60 Madrid España;X-APPLE-RADIUS=500;X-TITLE=Ribera del Loira\, 60:geo:-3.6183237,40.4601829
END:VEVENT
END:VCALENDAR