BEGIN:VCALENDAR
VERSION:2.0
PRODID:-//MKT. Asociación de Marketing de España - ECPv4.9.14//NONSGML v1.0//EN
CALSCALE:GREGORIAN
METHOD:PUBLISH
X-WR-CALNAME:MKT. Asociación de Marketing de España
X-ORIGINAL-URL:https://www.asociacionmkt.es
X-WR-CALDESC:Eventos para MKT. Asociación de Marketing de España
BEGIN:VTIMEZONE
TZID:Europe/Madrid
BEGIN:DAYLIGHT
TZOFFSETFROM:+0100
TZOFFSETTO:+0200
TZNAME:CEST
DTSTART:20230326T010000
END:DAYLIGHT
BEGIN:STANDARD
TZOFFSETFROM:+0200
TZOFFSETTO:+0100
TZNAME:CET
DTSTART:20231029T010000
END:STANDARD
END:VTIMEZONE
BEGIN:VEVENT
DTSTART;TZID=Europe/Madrid:20230419T093000
DTEND;TZID=Europe/Madrid:20230419T133000
DTSTAMP:20260424T234435
CREATED:20230314T121634Z
LAST-MODIFIED:20230418T142439Z
UID:52820-1681896600-1681911000@www.asociacionmkt.es
SUMMARY:Jornada | 11.ª edición del Observatorio de Branding
DESCRIPTION:El 19 de abril tendrá lugar la 11.ª edición del Observatorio de Branding. ¡Te contamos todos los detalles!\nLa forma de comprar\, de entretenernos\, de trabajar y de comunicarnos ha cambiado radicalmente en los últimos años. Para conectar con las personas en este nuevo contexto\, las marcas tienen que formar parte de sus vidas y establecer con ellas relaciones más sinceras\, humanas y auténticas. Además\, esto aplica tanto a la relación de las marcas con clientes y usuarios\, como con los colaboradores y el talento. \nEn este sentido\, te invitamos a la 11.ª edición del Observatorio de Branding\, que se celebrará el próximo 19 de abril en el Espacio Fundación Telefónica (Calle de Fuencarral\, 3\, 28004 Madrid)\, a partir de las 9:30. Durante el evento\, profesionales de empresas destacadas compartirán sus reflexiones sobre las nuevas formas de relación de las marcas con las personas y el impacto que esta nueva realidad tiene en la gestión de las marcas. \n  \nAGENDA \n09:30 – 10:00 | Acreditación asistentes y café \n10:00 – 10:05 | Bienvenida a la jornada \n\nFélix Muñoz. Profesor y consultor de Marketing y Comunicación. Conductor del evento\n\n10:05 – 10:15 | Presentación del 11.er Observatorio de Branding \n\nVíctor Conde. Director general de la Asociación de Marketing de España\n\n10:15 – 10:30 | Intervención del anfitrión \n\nRafael Fernández de Alarcón. Director de Marketing Global de Telefónica\n\n10:30 – 10:55 | «Segmenta y vencerás. Cómo crecer a través de una estrategia dual que armoniza el corto y largo plazo» \n\nFederico Martínez. Business Development Director de GfK España\n\n10:55 – 11:20 | «Comunidades: el nuevo campo de juego de las marcas» \n\nRafael Soto. Head of Creative and Experience de Summa Branding\n\n11:20 – 11:30 | Descanso \n11:30 – 12:15 | «Una nueva relación entre marcas y personas». Mesa redonda \n\nJosé Cabanas. CMO global de Corporación Hijos de Rivera\nÁngel Fernández. Head of Partnerships Strategy de LaLiga\nInma Grass. Cofundadora y socia de Altafonte\nPablo Rodríguez. Area Vicepresident Enterprise Sales de Salesforce\nModera: Nuria Marcos. Directora general de Pons IP\n\n12:15 – 12:45 | «Liderar la transformación manteniendo la esencia». Diálogo \n\nAdriana Domínguez. Presidenta ejecutiva de Adolfo Domínguez\nTamara Pirojkova. Directora de Marketing del Foro de Marcas Renombradas Españolas\n\n12:45 – 12:55 | Conclusiones y clausura del evento \n12:55 – 14:00 | Cóctel-Networking \n  \n¡No te lo puedes perder! \n  \nREGISTRO\n  \nCompártelo en tus RRSS #OB23: \n
URL:https://www.asociacionmkt.es/evento/jornada-11-a-edicion-del-observatorio-de-branding/
LOCATION:Espacio Fundación Telefónica\, Calle de Fuencarral\, 3\, Madrid\, Madrid\, 28004\, España
CATEGORIES:JORNADAS
ATTACH;FMTTYPE=image/png:https://www.asociacionmkt.es/wp-content/uploads/2023/03/825x353-web.png
GEO:40.4204426;-3.7017177
X-APPLE-STRUCTURED-LOCATION;VALUE=URI;X-ADDRESS=Espacio Fundación Telefónica Calle de Fuencarral 3 Madrid Madrid 28004 España;X-APPLE-RADIUS=500;X-TITLE=Calle de Fuencarral\, 3:geo:-3.7017177,40.4204426
END:VEVENT
END:VCALENDAR