BEGIN:VCALENDAR
VERSION:2.0
PRODID:-//MKT. Asociación de Marketing de España - ECPv4.9.14//NONSGML v1.0//EN
CALSCALE:GREGORIAN
METHOD:PUBLISH
X-WR-CALNAME:MKT. Asociación de Marketing de España
X-ORIGINAL-URL:https://www.asociacionmkt.es
X-WR-CALDESC:Eventos para MKT. Asociación de Marketing de España
BEGIN:VTIMEZONE
TZID:Europe/Madrid
BEGIN:DAYLIGHT
TZOFFSETFROM:+0100
TZOFFSETTO:+0200
TZNAME:CEST
DTSTART:20220327T010000
END:DAYLIGHT
BEGIN:STANDARD
TZOFFSETFROM:+0200
TZOFFSETTO:+0100
TZNAME:CET
DTSTART:20221030T010000
END:STANDARD
END:VTIMEZONE
BEGIN:VEVENT
DTSTART;TZID=Europe/Madrid:20220712T093000
DTEND;TZID=Europe/Madrid:20220712T103000
DTSTAMP:20260424T000516
CREATED:20220615T082944Z
LAST-MODIFIED:20220711T095958Z
UID:48164-1657618200-1657621800@www.asociacionmkt.es
SUMMARY:El nuevo Departamento de Marketing: ¿de ciencias o letras?
DESCRIPTION:El próximo 12 de julio\, de 9:30 a 10:30\, celebraremos una nueva jornada\, organizada desde nuestro Comité B2B\, en la que hablaremos del impacto de la tecnología en el Departamento de Marketing.\n  \n¿Qué oportunidades nos ofrecen las nuevas tecnologías y el marketing digital? Las compañías\, ante la necesidad de conseguir nuevos clientes y mantener los habituales\, han tenido que enfrentarse a los cambios y múltiples retos de esta era\, como la necesidad de predecir las tendencias del entorno para convertirlas en oportunidades\, así como la de adaptarse a los nuevos comportamientos de los consumidores. \nEl Departamento de Marketing se ha visto más impactado que nunca por la tecnología. Ya no solo es que el consumidor sea digital\, sino que las múltiples herramientas tecnológicas disponibles hacen necesario que los perfiles que trabajan en él necesiten de nuevas habilidades para aprovechar estas herramientas. Ahora la pregunta es: ¿es suficiente con la formación de los marketers convencionales o es necesario incorporar en los equipos nuevos perfiles de base tecnológica? \nEn esta jornada trataremos de entender hacia donde nos lleva esta tendencia\, que parece imparable\, con la colaboración de figuras muy relevantes dentro del sector. Te esperamos en la celebración de la jornada «El nuevo Departamento de Marketing: ¿de ciencias o letras?»\, el 12 de julio\, de 9:30 a 10:30 en Havas Media Group (C. Eloy Gonzalo\, 10). \n  \nAGENDA\n09:30 – 09:45 | ¿Cómo serán los departamentos de Marketing en 5-10 años? \n\nDavid Hurtado Torán\, Customer Success Innovation Lead en Microsoft\n\n  \n09:50 – 10:05 | Presentación del estudio salarios en los departamentos de marketing \n\nSofía Padrón\, Global head of Marketing Comunications en Multiplica\nMario Tena\, Global OPS Director en Multiplica Talent\n\n  \n10:05 – 10:15 | Cómo se resuelve el debate entre marketing basado en marca vs. marketing basado en datos \n\nPablo Alzugaray\, cofundador y presidente de Ernest\n\n  \n10:15 – 10:30 | Cómo es mejor encarar esta tecnología que nos llega\, ¿con paracaidistas o con formación? \n\nEnrique Benayas\, director general en ICEMD y director de ESIC CORPORATE\n\n  \n¡Ya puedes inscribirte! \n\nREGISTRO\n\n  \n  \nPuedes ver aquí los anteriores encuentros que hemos realizado desde el Comité de Marketing B2B\n  \nCompártelo en tus RRSS #AMKTB2B: \n
URL:https://www.asociacionmkt.es/evento/jornada-b2b-sobre-el-departamento-de-marketing/
LOCATION:Havas Media Group\, Calle Eloy Gonzalo\, 10\, Madrid\, Madrid\, 28010\, España
CATEGORIES:JORNADAS
ATTACH;FMTTYPE=image/jpeg:https://www.asociacionmkt.es/wp-content/uploads/2022/06/AMKT-ciencias-825x353-12.44.47.jpg
GEO:40.4336358;-3.7029795
X-APPLE-STRUCTURED-LOCATION;VALUE=URI;X-ADDRESS=Havas Media Group Calle Eloy Gonzalo 10 Madrid Madrid 28010 España;X-APPLE-RADIUS=500;X-TITLE=Calle Eloy Gonzalo\, 10:geo:-3.7029795,40.4336358
END:VEVENT
END:VCALENDAR