BEGIN:VCALENDAR
VERSION:2.0
PRODID:-//MKT. Asociación de Marketing de España - ECPv4.9.14//NONSGML v1.0//EN
CALSCALE:GREGORIAN
METHOD:PUBLISH
X-WR-CALNAME:MKT. Asociación de Marketing de España
X-ORIGINAL-URL:https://www.asociacionmkt.es
X-WR-CALDESC:Eventos para MKT. Asociación de Marketing de España
BEGIN:VTIMEZONE
TZID:Europe/Madrid
BEGIN:DAYLIGHT
TZOFFSETFROM:+0100
TZOFFSETTO:+0200
TZNAME:CEST
DTSTART:20230326T010000
END:DAYLIGHT
BEGIN:STANDARD
TZOFFSETFROM:+0200
TZOFFSETTO:+0100
TZNAME:CET
DTSTART:20231029T010000
END:STANDARD
END:VTIMEZONE
BEGIN:VEVENT
DTSTART;TZID=Europe/Madrid:20230414T093000
DTEND;TZID=Europe/Madrid:20230414T110000
DTSTAMP:20260423T162814
CREATED:20230316T114302Z
LAST-MODIFIED:20230331T073140Z
UID:52873-1681464600-1681470000@www.asociacionmkt.es
SUMMARY:Jornada | «Competencias profesionales en la industria del deporte\, desde la perspectiva del marketing»
DESCRIPTION:Te invitamos a la presentación del informe «Competencias profesionales en la industria del deporte\, desde la perspectiva del marketing»\, que se celebrará el 14 de abril en LaLiga. ¡Apúntate!\nEl Comité Expertos de Marketing Deportivo (CEMDE) de la Asociación Marketing España (AMKT) presenta el informe sobre «Competencias profesionales en la industria del deporte\, desde la perspectiva del marketing». En el mismo\, se analizan las principales competencias profesionales\, tanto actitudinales como aptitudinales\, que son más necesarias para desarrollar una carrera profesional en la industria del deporte\, que\, recordemos\, genera el 3\,3 % del PIB en España. Así mismo\, se pondrán en valor las áreas y funciones dentro del marketing con más potencial en deporte\, así como las principales fuentes de identificación de talento en el sector. \nTras la presentación\, a cargo de Carlos Cantó\, CEO de SPSG Consulting y miembro del Consejo de Gobierno de AMKT y responsable del CEMDE\, se desarrollará un muy interesante debate con la participación de: \n\nLaura Baza\, directora de Desarrollo de Negocios de Sportalent\nJuncal Garrido\, Managing Partner de Board & Leaders\nSancho Peña\, Senior Partner de Page Executive\n\nNieves Peño\, directora de Gestión de Personas de LaLiga\nPau Serracanta\, Founder de North Shore Investments\nAlex Zusammen\, Founder de Impulsyn\n\n  \nNo te pierdas la presentación del informe y el posterior debate con la presencia de HeadHunters\, empresas de selección de personal y directivos de empresas del sector del deporte. \n  \nREGISTRO\n  \nCompártelo en tus RRSS #AMKTDeporte \n
URL:https://www.asociacionmkt.es/evento/jornada-competencias-profesionales-en-la-industria-del-deporte-desde-la-perspectiva-del-marketing-2/
LOCATION:Sede LaLiga\, Calle Torrelaguna\, 60\, Madrid\, Madrid\, 28043\, España
CATEGORIES:JORNADAS
ATTACH;FMTTYPE=image/png:https://www.asociacionmkt.es/wp-content/uploads/2023/03/AMKT_MarketingDeportivo_CompetenciasProfesionales_14abril_web.png
END:VEVENT
END:VCALENDAR