BEGIN:VCALENDAR
VERSION:2.0
PRODID:-//MKT. Asociación de Marketing de España - ECPv4.9.14//NONSGML v1.0//EN
CALSCALE:GREGORIAN
METHOD:PUBLISH
X-WR-CALNAME:MKT. Asociación de Marketing de España
X-ORIGINAL-URL:https://www.asociacionmkt.es
X-WR-CALDESC:Eventos para MKT. Asociación de Marketing de España
BEGIN:VTIMEZONE
TZID:Europe/Madrid
BEGIN:DAYLIGHT
TZOFFSETFROM:+0100
TZOFFSETTO:+0200
TZNAME:CEST
DTSTART:20230326T010000
END:DAYLIGHT
BEGIN:STANDARD
TZOFFSETFROM:+0200
TZOFFSETTO:+0100
TZNAME:CET
DTSTART:20231029T010000
END:STANDARD
END:VTIMEZONE
BEGIN:VEVENT
DTSTART;TZID=Europe/Madrid:20230201T093000
DTEND;TZID=Europe/Madrid:20230201T113000
DTSTAMP:20260423T190812
CREATED:20221215T092201Z
LAST-MODIFIED:20230130T183602Z
UID:51916-1675243800-1675251000@www.asociacionmkt.es
SUMMARY:Jornada | «Comportamiento de empresas y consumidores ante la situación actual»
DESCRIPTION:El próximo 1 de febrero analizaremos las principales variables macroeconómicas en la jornada «Comportamiento de empresas y consumidores ante la situación actual».\n  \nEn una situación cambiante\, como la actual\, es necesario analizar el papel de las empresas y\, especialmente\, del área de Marketing como herramienta de alivio. Nos encontramos ante una sociedad cansada\, «perdida»\, y los consumidores encuentran dificultades crecientes para enfrentarse a un mercado cada vez más «agresivo»\, con pocas perspectivas de mejora a corto plazo. En este contexto\, es el momento de demostrar la importancia y la influencia del marketing como motor de cambio en las organizaciones y en la propia sociedad. \n  \nPara profundizar en esta cuestión\, el 1 de febrero celebramos la jornada «Comportamiento de empresas y consumidores ante la situación actual». Durante la sesión analizaremos las principales variables macroeconómicas en 2023 y qué piensan las empresas y\, en particular\, los directores de Marketing\, sobre esta situación. Además\, debatiremos sobre las expectativas de los consumidores ante la compra o contratación de diferentes productos\, marcas y servicios. Para ello\, partimos de los resultados de estudios recientes que se están llevando a cabo o se han realizado durante 2022\, como el Estudio de Expectativas de Mediapost\, o el Índice de Expectativas de los Directores de Marketing. \n  \nEl evento se celebrará de forma presencial en Fundación PONS a partir de las 9:30. \n  \nAGENDA \n09:30 – 09:35 | Bienvenida \n\nVíctor Conde. Director general de la Asociación de Marketing de España\n\n09:35 – 09:40 | Introducción de la jornada \n\nDavid Torrejón. Consejero de la Asociación de Marketing de España\n\n09:40 – 09:55 | Principales indicadores macroeconómicos \n\nCarlos Alonso de Linaje\, presidente del Registro de Marketing y Comercialización del Consejo General de Economistas\n\n09:55 – 10:10 | El consumo en la situación actual \n\nEnrique Porta\, socio responsable de Consumo & Retail de KPMG en España\n\n10:10 – 10:25 | IEDM (Índice de Expectativas de los Directores de Marketing) \n\nJavier Gómez\, Head of Brand\, Comms & Customer Experience de GfK\n\n10:25 – 10:40 | Resultados del Estudio Expectativas del Consumidor \n\nAntonio Tena\, Marketing\, Communication & Innovation Director de Grupo Mediapost\n\n10:40 – 11:25 | Mesa debate \n\nModerador. David Torrejón. Consejero en Asociación de Marketing de España\n\n11:25 – 11:30 Cierre y networking \n  \n¡Reserva la fecha en tu agenda! \n  \nREGISTRO\n  \n  \nCompártelo en tus RRSS #EconomíayConsumo: \n
URL:https://www.asociacionmkt.es/evento/jornada-comportamiento-empresas-y-consumidores/
LOCATION:Fundación Pons\, Calle Serrano\, 138\, Madrid\, Madrid\, 28006\, España
CATEGORIES:JORNADAS
ATTACH;FMTTYPE=image/png:https://www.asociacionmkt.es/wp-content/uploads/2022/12/JornadaConsumidores_1feb_AMKT_Web.png
END:VEVENT
END:VCALENDAR