BEGIN:VCALENDAR
VERSION:2.0
PRODID:-//MKT. Asociación de Marketing de España - ECPv4.9.14//NONSGML v1.0//EN
CALSCALE:GREGORIAN
METHOD:PUBLISH
X-WR-CALNAME:MKT. Asociación de Marketing de España
X-ORIGINAL-URL:https://www.asociacionmkt.es
X-WR-CALDESC:Eventos para MKT. Asociación de Marketing de España
BEGIN:VTIMEZONE
TZID:Europe/Madrid
BEGIN:DAYLIGHT
TZOFFSETFROM:+0100
TZOFFSETTO:+0200
TZNAME:CEST
DTSTART:20240331T010000
END:DAYLIGHT
BEGIN:STANDARD
TZOFFSETFROM:+0200
TZOFFSETTO:+0100
TZNAME:CET
DTSTART:20241027T010000
END:STANDARD
END:VTIMEZONE
BEGIN:VEVENT
DTSTART;TZID=Europe/Madrid:20240521T093000
DTEND;TZID=Europe/Madrid:20240521T133000
DTSTAMP:20260423T223300
CREATED:20240425T083036Z
LAST-MODIFIED:20240521T073411Z
UID:59787-1716283800-1716298200@www.asociacionmkt.es
SUMMARY:XII Jornada de Marketing Deportivo | «Cambios en el contenido y consumo del deporte (desde el punto de vista de marketing)»
DESCRIPTION:El próximo 21 de mayo celebraremos la XII Jornada de Marketing Deportivo\, organizada desde nuestro Comité de Marketing Deportivo\, en la que trataremos «Cambios en el contenido y consumo del deporte (desde el punto de vista de marketing)».\nEl sector del deporte\, que genera el 3\,3 % del PIB en España\, está evolucionando\, tanto a nivel de profesionalización y gobernanza\, como a nivel de inversión y\, por supuesto\, el binomio oferta y demanda. \nEste paradigma de evolución y cambio constante tiene su directa implicación en los cambios que se producen en cómo el deporte es «consumido»: contenidos\, formatos\, canales\, plataformas\, experiencias\, etc… ¿Cómo evoluciona el sector hacia la fusión entre deporte y entretenimiento (sportainment)? ¿Cómo llegar a la amplia mayoría de la población\, tanto «avid» fans como «casual» fans? ¿Qué contenidos y formatos son los más atractivos y que se «consumen» más en sportainment? ¿Qué canales y plataformas son las más utilizadas? ¿Cuáles son las principales tendencias en cuanto a experiencias en los estadios e instalaciones deportivas? \nEn este sentido\, un año más\, nuestro Comité de Marketing Deportivo celebrará la XII Jornada de Marketing Deportivo\, en la que trataremos\, junto a diversos expertos (Betis\, VISA\, Endesa\, COE-Comité Olímpico Español\, Telefónica\, DAZN\, Interactvty\, Movistar\, NBA\, Legends\, IFEMA)\, estos y muchos temas más. Bajo el título de «Cambios en el contenido y consumo del deporte (desde el punto de vista de marketing)»\, el encuentro tendrá lugar el próximo 21 de mayo de 9:30 a 13:30 en la Academia Artes Escénicas y Cine (c/ Zurbano\, 3\, Madrid). \nEn la XII Jornada de Marketing Deportivo se tratará la temática organizada en tres paneles y los ponentes confirmados hasta la fecha son: \n  \nAGENDA \n09:30 – 09:35 | Bienvenida \n09:35 – 09:45 | Introducción conceptual a la temática \n\nCarlos Cantó\, CEO de SPSG Consulting y miembro del Consejo de Gobierno de AMKT\n\n09:45 – 10:55 | PANEL 1: Contenido y formatos en el sector del deporte: oportunidades y tendencias \n\nJuan Useros\, Chief Marketing and Business Officer del Real Betis Balompié.\nJavier Perales\, Senior Manager Brand & Product – Marketing de VISA.\nMaria Lacasa\, directora de marca\, patrocinios y contenido de Endesa.\nManuel Parga\, director de sostenibilidad\, marketing y recursos humanos del Comité Olímpico Español.\nModerador: Jaime Dominguez\, director de Comunicación de WFS (World Football Summit)\n\n10:55 – 11:15 | Pausa y networking \n11:15 – 12:25  | PANEL 2: Canales y plataformas audiovisuales en el sector del deporte: oportunidades y tendencias \n\nAlessio Sarina\, Senior Vice President Subscriptions de DAZN Spain.\nBartos Cañete\, CEO de Interactivity.\nIgnacio Fernandez-Vega\, CEO TBS (Tech Brand Stories) de Telefónica – Movistar.\nModerador: Jaime Colás\, Senior Advisor y ex Chief Commercial Officer del Inter Milan \n\n12:25 – 13:30 | PANEL 3: Deporte y entretenimiento – venues y experiencias: oportunidades y tendencias \n\nSantiago Tripero Oter\, gerente ventas empresa de Telefónica España.\nPaula Sira Lachén del Val\, Global Partnership Manager Europe / Middle East de NBA.\nÍñigo Aznar\, VP Global Partenrships Iberia de Legends.\nRaul Díez\, director de comunicación de IFEMA (F1 Madrid).\nModerador: Carlos Cantó\, CEO de SPSG Consulting y miembro del Consejo de Gobierno de AMKT\n\n13:30 – 13:35 | Clausura \n13:35 – 14:00 | Networking \n  \n\nPOR SER SOCIO DE AMKT\, PUEDES ACUDIR DE MANERA GRATUITA AL EVENTO\, A TRAVÉS DEL SIGUIENTE ENLACE:\n\n  \n\n\nÁREA PRIVADA\n\n  \n\n\n\nSi no eres socio de AMKT\, puedes obtener tu entrada en el siguiente botón: \n\n\n\n  \n\n\n\nREGISTRO\n\n\n\n  \n\n\n\n\n\nCompártelo en tus RRSS #AMKTDeporte:\n\n\n\n\n\n\n\n  \n\n\n\n\n\n
URL:https://www.asociacionmkt.es/evento/jornada-de-marketing-deportivo-cambios-en-el-contenido-y-consumo-del-deporte/
LOCATION:Academia Artes Escénicas y Cine\, Calle Zurbano\, 3\, Madrid\, Madrid\, España
CATEGORIES:JORNADAS
ATTACH;FMTTYPE=image/png:https://www.asociacionmkt.es/wp-content/uploads/2024/04/Banner_CREATIVIDAD_JORNADA-MARKETING-DEPORTIVO-825-x-353-px.png
GEO:40.427444;-3.6939817
X-APPLE-STRUCTURED-LOCATION;VALUE=URI;X-ADDRESS=Academia Artes Escénicas y Cine Calle Zurbano 3 Madrid Madrid España;X-APPLE-RADIUS=500;X-TITLE=Calle Zurbano\, 3:geo:-3.6939817,40.427444
END:VEVENT
END:VCALENDAR