BEGIN:VCALENDAR
VERSION:2.0
PRODID:-//MKT. Asociación de Marketing de España - ECPv4.9.14//NONSGML v1.0//EN
CALSCALE:GREGORIAN
METHOD:PUBLISH
X-WR-CALNAME:MKT. Asociación de Marketing de España
X-ORIGINAL-URL:https://www.asociacionmkt.es
X-WR-CALDESC:Eventos para MKT. Asociación de Marketing de España
BEGIN:VTIMEZONE
TZID:Europe/Madrid
BEGIN:DAYLIGHT
TZOFFSETFROM:+0100
TZOFFSETTO:+0200
TZNAME:CEST
DTSTART:20230326T010000
END:DAYLIGHT
BEGIN:STANDARD
TZOFFSETFROM:+0200
TZOFFSETTO:+0100
TZNAME:CET
DTSTART:20231029T010000
END:STANDARD
END:VTIMEZONE
BEGIN:VEVENT
DTSTART;TZID=Europe/Madrid:20230412T093000
DTEND;TZID=Europe/Madrid:20230412T103000
DTSTAMP:20260423T162335
CREATED:20230314T104550Z
LAST-MODIFIED:20230330T151123Z
UID:52815-1681291800-1681295400@www.asociacionmkt.es
SUMMARY:Jornada | «El poder de atracción de la marca en B2B»
DESCRIPTION:El próximo 12 de abril celebramos la jornada «El poder de atracción de la marca en B2B»\, de nuestro Comité de Marketing B2B. ¡Apúntate!\nDentro del propósito de nuestro Comité de Marketing B2B por difundir el impacto de la actividad económica del B2B\, sector en constante crecimiento\, presentamos la jornada «El poder de atracción de la marca en B2B». La sesión se celebrará el 12 de abril\, a las 9:30\, de forma híbrida\, en el Consejo General de Economistas (Calle de Nicasio Gallego\, 8\, 28010 Madrid) y online. \nA lo largo de la jornada presentaremos el estudio «Enterprise Recalibrated»\, de Interbrand\, que recoge una clasificación de las principales marcas B2B del mundo\, junto con un análisis de su funcionamiento para indagar en las claves del desarrollo de este ámbito. A continuación\, daremos paso a una mesa de debate con ejemplos reales de marcas B2B\, en la que contaremos con expertos del sector. \n  \nAGENDA \n09:30 – 09:35 | Bienvenida \n09:35 – 9:55 | Presentación del estudio Enterprise Recalibrated de Interbrand de marcas B2B más valiosas \n\nHéctor Saracho\, Head of Strategy de Interbrand\n\n09:55 – 10:25 | Mesa redonda: experiencias reales de marcas B2B con distintas casuísticas \n\nRoberto Bodegas\, socio de Marketing y Comunicación de KPMG en España\nMónica de la Maza Gómez\, Marketing leader de Kyndryl\nModeradores: Alberto Pastor y Arturo García Berzosa\, responsables del Comité y de Garlic B2B\n\n10:25 – 10:30 | Preguntas y despedida \n  \nREGISTRO\n  \nCompártelo en tus RRSS #AMKTB2B: \n
URL:https://www.asociacionmkt.es/evento/jornada-el-poder-de-atraccion-de-la-marca-en-b2b/
LOCATION:Consejo General de Economistas de España\, Calle de Nicasio Gallego\, 8\, Madrid\, Madrid\, 28010\, España
CATEGORIES:JORNADAS
ATTACH;FMTTYPE=image/png:https://www.asociacionmkt.es/wp-content/uploads/2023/03/Jornada_AMKTB2B_Poderdeatracciondelamarca_12abril_web-1.png
GEO:40.4293756;-3.6994382
X-APPLE-STRUCTURED-LOCATION;VALUE=URI;X-ADDRESS=Consejo General de Economistas de España Calle de Nicasio Gallego 8 Madrid Madrid 28010 España;X-APPLE-RADIUS=500;X-TITLE=Calle de Nicasio Gallego\, 8:geo:-3.6994382,40.4293756
END:VEVENT
END:VCALENDAR