BEGIN:VCALENDAR
VERSION:2.0
PRODID:-//MKT. Asociación de Marketing de España - ECPv4.9.14//NONSGML v1.0//EN
CALSCALE:GREGORIAN
METHOD:PUBLISH
X-WR-CALNAME:MKT. Asociación de Marketing de España
X-ORIGINAL-URL:https://www.asociacionmkt.es
X-WR-CALDESC:Eventos para MKT. Asociación de Marketing de España
BEGIN:VTIMEZONE
TZID:Europe/Madrid
BEGIN:DAYLIGHT
TZOFFSETFROM:+0100
TZOFFSETTO:+0200
TZNAME:CEST
DTSTART:20240331T010000
END:DAYLIGHT
BEGIN:STANDARD
TZOFFSETFROM:+0200
TZOFFSETTO:+0100
TZNAME:CET
DTSTART:20241027T010000
END:STANDARD
END:VTIMEZONE
BEGIN:VEVENT
DTSTART;TZID=Europe/Madrid:20240222T090000
DTEND;TZID=Europe/Madrid:20240222T110000
DTSTAMP:20260423T180327
CREATED:20240123T130530Z
LAST-MODIFIED:20240219T124241Z
UID:56750-1708592400-1708599600@www.asociacionmkt.es
SUMMARY:Jornada | Informe sobre el III Observatorio de Payments: Tendencias en los pagos B2B y de la inteligencia artificial aplicada a los pagos
DESCRIPTION:EL PRÓXIMO 22 DE FEBRERO CELEBRAREMOS UNA NUEVA JORNADA PARA PRESENTAR EL III INFORME DEL «OBSERVATORIO PAYMENTS». ¡YA PUEDES APUNTARTE!\n\n\n\nPor tercer año consecutivo\, se lleva a cabo la iniciativa «Observatorio Payments» organizado por nuestro socio empresa corporativo\, ditrendia\, nuestro socio empresa colaborador\, Pecunpay\, y por Visa\, con nuestro apoyo desde el Comité Financiero y Asegurador. Anualmente\, el «Observatorio Payments» analiza la situación actual y futura de los pagos con la participación de los principales representantes del ámbito de banca\, pagos y Fintech. Y elabora un informe con las principales conclusiones. \nEl propósito del informe de este año es mantenerse al tanto de las últimas tecnologías y detectar los factores emergentes que están influyendo en el mercado\, centrándose especialmente en el ámbito de los pagos. \n  \n\n«El mundo de los pagos va evolucionando muy rápidamente. Hay que estar atentos a nuevas tecnologías\, nuevas herramientas y nuevas soluciones». \nFernando Rivero\, CEO de ditrendia \n  \nPara la elaboración de este informe se han organizado dos desayunos de trabajo y entrevistas con los principales responsables de diversas entidades financieras\, Fintech y empresas de medios de pagos. Diecinueve directivos de entidades como: Paypal\, Ibercaja\, Evobanco\, UnionPay International\, Iberpay\, Abanca\, Visa y Tokyo\, han intercambiado opiniones alrededor de dos temas importantes\, tendencias en los pagos entre empresas (B2B Payments) y la inteligencia artificial en los pagos. \nIgualmente\, algunos puntos importantes a destacar de las reuniones fueron: \n– La evolución y las tendencias actuales en los pagos B2B.\n– El impacto transformador de la IA en los procesos de pago.\n– Debates sobre los desafíos y oportunidades que enfrenta el sector. \n\nAdemás\, a lo largo de la jornada contaremos con los siguientes ponentes que nos compartirán su punto de vista sobre el estudio: \n\nEduardo Prieto\, director general de Visa en España\nEnrique Álvarez Fernández\, director de Desarrollo de Negocio Europa de Minsait Payments\nFernando Rivero\, CEO de Ditrendia y responsable del Comité de Marketing del Sector Financiero y Asegurador (MKTefa) de la Asociación.  \n\n\nTe esperamos el próximo 22 de febrero\, de 9:00 a 11:00\, en la Fundación PONS (C. de Serrano\, 138\, 28006 Madrid) para conocer todas las conclusiones del estudio. \n  \n\n\nREGISTRO\n  \n\nConoce más sobre el III Informe del «Observatorio Payments»: \n\n\n\n\n  \n\n\n\n\nCompártelo en tus RRSS: \n\n\n\n\n\n\n
URL:https://www.asociacionmkt.es/evento/jornada-informe-sobre-el-iii-observatorio-de-payments/
LOCATION:Fundación Pons\, Calle Serrano\, 138\, Madrid\, Madrid\, 28006\, España
CATEGORIES:JORNADAS
ATTACH;FMTTYPE=image/jpeg:https://www.asociacionmkt.es/wp-content/uploads/2024/01/Obsevatorio-Payment_Banner-Evento825-x-353-px.jpg
END:VEVENT
END:VCALENDAR