BEGIN:VCALENDAR
VERSION:2.0
PRODID:-//MKT. Asociación de Marketing de España - ECPv4.9.14//NONSGML v1.0//EN
CALSCALE:GREGORIAN
METHOD:PUBLISH
X-WR-CALNAME:MKT. Asociación de Marketing de España
X-ORIGINAL-URL:https://www.asociacionmkt.es
X-WR-CALDESC:Eventos para MKT. Asociación de Marketing de España
BEGIN:VTIMEZONE
TZID:Europe/Madrid
BEGIN:DAYLIGHT
TZOFFSETFROM:+0100
TZOFFSETTO:+0200
TZNAME:CEST
DTSTART:20240331T010000
END:DAYLIGHT
BEGIN:STANDARD
TZOFFSETFROM:+0200
TZOFFSETTO:+0100
TZNAME:CET
DTSTART:20241027T010000
END:STANDARD
END:VTIMEZONE
BEGIN:VEVENT
DTSTART;TZID=Europe/Madrid:20240604T093000
DTEND;TZID=Europe/Madrid:20240604T113000
DTSTAMP:20260423T180451
CREATED:20240427T010212Z
LAST-MODIFIED:20240531T224408Z
UID:59939-1717493400-1717500600@www.asociacionmkt.es
SUMMARY:Jornada | La eficacia del co-marketing en B2B
DESCRIPTION:El próximo 4 de junio celebraremos la jornada «La eficacia del co-marketing en B2B»\, de nuestro Comité de Marketing B2B. ¡Apúntate!\nDentro del propósito de nuestro Comité de Marketing B2B por difundir el impacto de la actividad económica del B2B\, sector en constante crecimiento\, presentamos la jornada «La eficacia del co-marketing en B2B»\, para explorar los beneficios y los problemas de los acuerdos entre marcas que dirigen sus ventas a otras empresas o profesionales. \nDurante la jornada\, analizaremos un caso de éxito junto a sus responsables y se llevará a cabo una charla sobre los diferentes formatos de partnership\, respaldada por ejemplos relevantes y la participación de expertos del sector\, quienes ofrecerán sus valiosas opiniones sobre la importancia de las alianzas estratégicas en el marketing B2B. \nLa sesión se celebrará el próximo 4 de junio\, de 9:30 a 11:30\, en el B the travel Brand Xperience Madrid (Calle de Miguel Ángel\, 33. Madrid). \n  \nAGENDA: \n09:00 – 09:30 | Acreditación \n09:30 – 09:35 | Bienvenida AMKT \n\nVíctor Conde\, director general de la Asociación de Marketing de España\n\n09:35 – 10:10 | Charla: las claves del Co-Marketing en B2B \n\nJorge Lukowski\, Global Head Director Mark & Comm de NEORIS\nRosa María Gámiz\, directora de Marketing de Grupo Cador\nArturo García Berzosa\, B2B Team Leader de Garlic B2B\nModerador: Alberto Pastor\, Managing Director de Garlic B2B\n\n10:10 – 10:55 | Diálogo sobre un caso en profundidad: Nissan y Obramat. \n\nAina Peris\, Sales & Marketing Fleet Section Manager de Nissan\nRoberto López\, Líder Omnicanal de Obramat\nModerador: Alberto Pastor\, Managing Director de Garlic B2B\n\n10:55 – 11:25 | Preguntas del público \n11:25 | Cierre y networking \n  \n¡Ya puedes registrar tu participación en el siguiente enlace! \n  \nREGISTRO\n\n  \nCompártelo en tus RRSS #AMKTB2B: \n
URL:https://www.asociacionmkt.es/evento/jornada-la-eficacia-del-co-marketing-en-b2b/
LOCATION:B the travel Brand Xperience Madrid\, Calle de Miguel Ángel\, 33. Madrid\, Madrid\, Madrid\, España
CATEGORIES:JORNADAS
ATTACH;FMTTYPE=image/png:https://www.asociacionmkt.es/wp-content/uploads/2024/04/CREATIVIDAD_JORNADA-B2B_BANNER.png
GEO:40.4378532;-3.6914307
X-APPLE-STRUCTURED-LOCATION;VALUE=URI;X-ADDRESS=B the travel Brand Xperience Madrid Calle de Miguel Ángel 33. Madrid Madrid Madrid España;X-APPLE-RADIUS=500;X-TITLE=Calle de Miguel Ángel\, 33. Madrid:geo:-3.6914307,40.4378532
END:VEVENT
END:VCALENDAR