BEGIN:VCALENDAR
VERSION:2.0
PRODID:-//MKT. Asociación de Marketing de España - ECPv4.9.14//NONSGML v1.0//EN
CALSCALE:GREGORIAN
METHOD:PUBLISH
X-WR-CALNAME:MKT. Asociación de Marketing de España
X-ORIGINAL-URL:https://www.asociacionmkt.es
X-WR-CALDESC:Eventos para MKT. Asociación de Marketing de España
BEGIN:VTIMEZONE
TZID:Europe/Madrid
BEGIN:DAYLIGHT
TZOFFSETFROM:+0100
TZOFFSETTO:+0200
TZNAME:CEST
DTSTART:20150329T010000
END:DAYLIGHT
BEGIN:STANDARD
TZOFFSETFROM:+0200
TZOFFSETTO:+0100
TZNAME:CET
DTSTART:20151025T010000
END:STANDARD
END:VTIMEZONE
BEGIN:VEVENT
DTSTART;TZID=Europe/Madrid:20151111T173000
DTEND;TZID=Europe/Madrid:20151111T200000
DTSTAMP:20260423T195018
CREATED:20151021T131037Z
LAST-MODIFIED:20200427T112125Z
UID:7974-1447263000-1447272000@www.asociacionmkt.es
SUMMARY:Cómo aprovechar el M-Commerce en mi estrategia de negocio
DESCRIPTION:La Asociacion de Marketing de España\, en colaboración con EAE Business School y MMA (Mobile Marketing Association)\, te invita a conocer de mano de expertos del mercado las más innovadoras estrategias para posicionar a tu marca gracias al M-Commerce y cuáles son las que más encajan con tu negocio.\nTodos los estudios nos indican\, que cada vez se realizan más y más transacciones con dispositivos móviles. Pero el mobile commerce es mucho más que comprar\, vender o pagar con el móvil.\nEl móvil se ha convertido en una potente herramienta que favorece y multiplica las acciones comerciales en otros canales y es el vínculo perfecto para conectar los mundos físicos y digital.\nSegún el último estudio de Zanox\, las compras en el móvil en el 1er. semestre de 2015 han aumentado en 49% en España.\nUna manera de influir estas compras desde el móvil de los consumidores es\, a través de los cupones móviles.\nTodo esto y mucho más lo descubrirás en el próximo evento de M-Commerce\, que se celebrará el próximo día 11 de noviembre en EAE BUSINESS SCHOOL:  \n\n17.30-18.00: Recepción asistentes\n18.00-18.10: Apertura y Bienvenida\n18.10-18.40: MCommerce\, couponing y nuevas formas de engagement en MCommerce. Sergio Fernández de Tejada (Director de Desarrollo de Negocio de Scanbuy)\n18.40-19.10: Experiencia de mcommerce puro. Victor Momparler (Performance Marketing Manager de Just-Eat)\n19.10-19.50: Mesa redonda\n19.50: Clausura\nVino Español\n\nSi te parece un contenido interesante\, confírmanos tu asistencia en este ENLACE. Como socio de MKT\, tu inscripción es GRATUITA\, pero date prisa porque las plazas son limitadas. \n
URL:https://www.asociacionmkt.es/evento/jornada-la-revitalizacion-del-cuponing-online-y-movil/
CATEGORIES:JORNADAS
ATTACH;FMTTYPE=image/jpeg:https://www.asociacionmkt.es/wp-content/uploads/2015/10/imagen-horizontal-e1446635824573.jpg
END:VEVENT
END:VCALENDAR