BEGIN:VCALENDAR
VERSION:2.0
PRODID:-//MKT. Asociación de Marketing de España - ECPv4.9.14//NONSGML v1.0//EN
CALSCALE:GREGORIAN
METHOD:PUBLISH
X-WR-CALNAME:MKT. Asociación de Marketing de España
X-ORIGINAL-URL:https://www.asociacionmkt.es
X-WR-CALDESC:Eventos para MKT. Asociación de Marketing de España
BEGIN:VTIMEZONE
TZID:Europe/Madrid
BEGIN:DAYLIGHT
TZOFFSETFROM:+0100
TZOFFSETTO:+0200
TZNAME:CEST
DTSTART:20230326T010000
END:DAYLIGHT
BEGIN:STANDARD
TZOFFSETFROM:+0200
TZOFFSETTO:+0100
TZNAME:CET
DTSTART:20231029T010000
END:STANDARD
END:VTIMEZONE
BEGIN:VEVENT
DTSTART;TZID=Europe/Madrid:20230425T093000
DTEND;TZID=Europe/Madrid:20230425T110000
DTSTAMP:20260423T212625
CREATED:20230314T152541Z
LAST-MODIFIED:20230424T105042Z
UID:52827-1682415000-1682420400@www.asociacionmkt.es
SUMMARY:Jornada | «La sostenibilidad y su efecto directo sobre las personas. Iniciativas innovadoras en el Tercer Sector»
DESCRIPTION:Te invitamos a asistir a la nueva jornada de nuestro Comité del Tercer Sector. Nos vemos el 25 de abril en la Fundación Botín.\n  \n¿Qué se considera un proyecto sostenible real y qué no? ¿Hasta qué punto muchas iniciativas se comunican bajo el paraguas de la sostenibilidad y no deben estar ahí? El concepto de sostenibilidad se maneja de formas muy diferentes y en contextos diversos. Actualmente\, todos\, incluidos los profesionales del marketing\, tenemos en nuestro inconsciente colectivo la palabra sostenibilidad como algo que vende\, que aporta valor y que genera interés y recursos. \nEn este contexto\, el Comité del Tercer Sector de AMKT quiere abordar ese concepto desde su vertiente más humana. Por ello\, organiza una nueva jornada de trabajo y debate bajo el título «La sostenibilidad y su efecto directo sobre las personas. Iniciativas innovadoras en el Tercer Sector». La sesión tendrá lugar el próximo 25 de abril en la Fundación Botín (Calle Castelló\, 18\, 28001 Madrid). \nA lo largo de la jornada\, se expondrán iniciativas\, proyectos o experiencias de sostenibilidad donde el mundo de la empresa y de las organizaciones sociales se unen para conseguir un efecto más tangible sobre las personas\, principalmente colectivos o individualidades con problemas de inclusión social o incluso con necesidades vitales no cubiertas. \nPara ponerlo de manifiesto\, se sucederán diferentes «casos de éxito» y un debate posterior entre los ponentes\, en el que se analizará hacia qué camino se dirige «la sostenibilidad con auténtica repercusión social»  y cuáles son los retos a los que nos enfrentamos los profesionales del marketing a la hora de impulsar y comunicar las distintas iniciativas. \n  \nAGENDA \n09:30 – 09:40 | Bienvenida \n\nVíctor Conde\, director general de AMKT\nJavier García Cañete\, director de Programas de Fundación Botín\n\n09:40-09:50 | Presentación de la jornada. Introducción a la situación actual de la Sostenibilidad en el Tercer Sector \n\nMayte Pinto\, CEO de Yukanna y responsable del Comité del Tercer Sector de AMKT\n\n09:50 10:30 | Casos de éxito: \n\nProyecto Smart Green. Miguel Ángel Fernández\, director de Marketing de LG España y Julián Casas\, CEO de Patrocina un Deportista\nProyecto de Autoconsumo Fotovoltaico de la Fundación Amara Nextgen para la Asociación El Despertar. Alba Martín\, coordinadora de Proyectos de Amara Next Gen y Domingo García\, director gerente de la Asociación El Despertar\nProyecto Madera Justa. María Morales\, responsable de Descarbonización y Biodiversidad de Leroy Merlin y Francisco Javier Fernández\, director general de Fundación Copade\nProyecto de Impacto Social Debuencafé. Miguel Munilla\, fundador y CEO de Debuencafé y Esther Imedio Ros\, responsable de ESG de la Fundación Juan XXIII\n\n10:30- 11:00 | Mesa redonda \n\nJulián Casas\, CEO de Patrocina un Deportista\nFrancisco Javier Fernández\, director general de Fundación Copade\nDomingo García\, director gerente de la Asociación El Despertar\nFernando Morón\, director gerente de la Asociación Española de Fundraising\nMiguel Munilla\, fundador y CEO de Debuencafé\nModeradora:\nMayte Pinto\, CEO de Yukanna y responsable del Comité del Tercer Sector de AMKT\n\n11:00 | Despedida y networking \n  \nREGISTRO\n  \nCompártelo en tus RRSS #TercerSectorAMKT: \n
URL:https://www.asociacionmkt.es/evento/jornada-la-sostenibilidad-y-su-efecto-directo-sobre-las-personas-iniciativas-innovadoras-en-el-tercer-sector/
LOCATION:Fundación Botín\, Calle Castelló\, 18\, Madrid\, Madrid\, 28001\, España
CATEGORIES:JORNADAS
ATTACH;FMTTYPE=image/png:https://www.asociacionmkt.es/wp-content/uploads/2023/03/JornadaAMKT_Sostenibilidad_TercerSector_25abril_web-1.png
GEO:40.4239971;-3.6814716
X-APPLE-STRUCTURED-LOCATION;VALUE=URI;X-ADDRESS=Fundación Botín Calle Castelló 18 Madrid Madrid 28001 España;X-APPLE-RADIUS=500;X-TITLE=Calle Castelló\, 18:geo:-3.6814716,40.4239971
END:VEVENT
END:VCALENDAR