BEGIN:VCALENDAR
VERSION:2.0
PRODID:-//MKT. Asociación de Marketing de España - ECPv4.9.14//NONSGML v1.0//EN
CALSCALE:GREGORIAN
METHOD:PUBLISH
X-WR-CALNAME:MKT. Asociación de Marketing de España
X-ORIGINAL-URL:https://www.asociacionmkt.es
X-WR-CALDESC:Eventos para MKT. Asociación de Marketing de España
BEGIN:VTIMEZONE
TZID:Europe/Madrid
BEGIN:DAYLIGHT
TZOFFSETFROM:+0100
TZOFFSETTO:+0200
TZNAME:CEST
DTSTART:20190331T010000
END:DAYLIGHT
BEGIN:STANDARD
TZOFFSETFROM:+0200
TZOFFSETTO:+0100
TZNAME:CET
DTSTART:20191027T010000
END:STANDARD
END:VTIMEZONE
BEGIN:VEVENT
DTSTART;TZID=Europe/Madrid:20191003T090000
DTEND;TZID=Europe/Madrid:20191003T113000
DTSTAMP:20260423T230205
CREATED:20190829T115000Z
LAST-MODIFIED:20190829T115000Z
UID:23370-1570093200-1570102200@www.asociacionmkt.es
SUMMARY:IMPACTO DE LA NUEVA LEY DE MARCAS EN LA ESTRATEGIA DE MARKETING
DESCRIPTION:Desde el pasado 14 de enero\, fecha en la que entró en vigor la reforma de la Ley de Marcas en España\, hemos sido testigo de las oportunidades que la nueva legislación ofrece a las organizaciones.\nEl próximo 3 de octubre\, la Asociación de Marketing de España\, en colaboración con PONS IP\, organiza una jornada para explicar cómo han afectado estos cambios\, después de casi un año de su entrada en vigor\, directa e indirectamente a las áreas de Marketing\, Comunicación y Publicidad. Un encuentro único para profundizar en aspectos como los nuevos tipos de marcas\, la prueba de uso o el renombre; conceptos todos ellos con un impacto indiscutible en nuestras estrategias de marca.\nContaremos\, en esta ocasión\, con la presencia de anunciantes (pendiente confirmación)\, la consultora global de marca Interbrand\, el Foro de Marcas Renombradas Españolas (FMRE)\, la firma de propiedad industrial e intelectual de PONS IP y la propia Oficina Española de Patentes y Marcas  (OEPM) quienes harán balance de su experiencia durante los últimos 10 meses\, desde la aplicación de este nuevo escenario regulatorio.\n \nAGENDA\n09:30 – 09:40 Bienvenida Asociación de Marketing de España/PONS IP\n09:40 – 10:40 Impacto de la nueva Ley de Marcas en el marketing de las organizaciones \n\nCarmen González\, directora de Marcas en PONS IP – Propiedad industrial y marketing: nueva Ley de Marcas. Concepto de marca y nuevos tipos de marcas. Prueba de uso. Marca renombrada\n\n\nPablo López\, director general en Foro Marcas Renombradas – El renombre\n\n\nLourdes Velasco\, jefe del Área Examen de Signos Distintivos Nacionales en OEPM – Balance después de casi un año de entrada en vigor\n\n\nJorge Camman\, Verbal Identity and Brand Engagement Director en Interbrand – No obligatoriedad de la representación gráfica de la marca\n\n\nJosé Sierras Pérez\, Brand Manager de Hannibal Laguna – La importancia de la estrategia de renombre para nuestra firma\n\n10:40 – 11:25 Mesa redonda con todos los ponentes moderada por Cristina Sancho\, Country Head of Brand\, Communication and CSR en Wolters Kluwer\n11:25 – 11:30 Cierre de jornada\n11:30 Café Networking\nSe abrirá un debate con todos los ponentes.\n \n(Acreditación de 9:00 – 9:30 h.)\n \nLas entradas son limitadas. ¡Reserva tu entrada ya! \n> Evento exclusivo para socios de MKT. Accede a tu entrada a través del Área Privada\n> ¿Aún no eres socio? Únete a nuestra comunidad\n
URL:https://www.asociacionmkt.es/evento/jornada-ley-de-marcas-marketing/
LOCATION:Fundación Pons\, Calle Serrano\, 138\, Madrid\, Madrid\, 28006\, España
CATEGORIES:JORNADAS
ATTACH;FMTTYPE=image/jpeg:https://www.asociacionmkt.es/wp-content/uploads/2019/08/Evento_770x230.jpg
END:VEVENT
END:VCALENDAR