BEGIN:VCALENDAR
VERSION:2.0
PRODID:-//MKT. Asociación de Marketing de España - ECPv4.9.14//NONSGML v1.0//EN
CALSCALE:GREGORIAN
METHOD:PUBLISH
X-WR-CALNAME:MKT. Asociación de Marketing de España
X-ORIGINAL-URL:https://www.asociacionmkt.es
X-WR-CALDESC:Eventos para MKT. Asociación de Marketing de España
BEGIN:VTIMEZONE
TZID:Europe/Madrid
BEGIN:DAYLIGHT
TZOFFSETFROM:+0100
TZOFFSETTO:+0200
TZNAME:CEST
DTSTART:20230326T010000
END:DAYLIGHT
BEGIN:STANDARD
TZOFFSETFROM:+0200
TZOFFSETTO:+0100
TZNAME:CET
DTSTART:20231029T010000
END:STANDARD
END:VTIMEZONE
BEGIN:VEVENT
DTSTART;TZID=Europe/Madrid:20230705T100000
DTEND;TZID=Europe/Madrid:20230705T133000
DTSTAMP:20260424T221106
CREATED:20230606T155429Z
LAST-MODIFIED:20230619T184410Z
UID:53839-1688551200-1688563800@www.asociacionmkt.es
SUMMARY:Jornada | Marca y consumidor: un viaje entre canales
DESCRIPTION:Te invitamos a una nueva jornada\, en la que analizaremos cómo afecta la omnicanalidad al sector. ¡No faltes!\n  \nLas marcas tienen cada vez más ocasiones de contactar con los consumidores\, que viven en un mundo omnicanal en el que descubren experiencias con las que interactuar. Esto obliga a las marcas a desarrollar una estrategia integral que les permita contactar con los consumidores en cualquier ámbito. Y\, a su vez\, la omnicanalidad también obliga a replantearse cómo seguir de manera efectiva el viaje del consumidor desde que se genera esa necesidad hasta la compra de un producto o servicio y posterior repetición de compra. \nPara profundizar en este tema\, el próximo 5 de julio celebraremos una jornada en el Consejo General de Economistas\, de 10:00 a 13:30. Bajo el título «Marca y consumidor: un viaje entre canales»\, abordaremos cuestiones de actualidad\, como la omnicanalidad\, el buyer journey\, nuevas herramientas para una buena gestión de cliente\, ¡y mucho más! \n  \nAGENDA \n10:00 – 10:30 | Apertura \n10:30 – 11:00 | «Revolución en el punto de venta» \n\nJesús Hernández\, subdirector de La Vaguada\n\n11:00 – 11:30 | «Potenciar las ventas con la inteligencia artificial» \n\nMelanie Calero\, CEO de Layer MD\n\n11:30 – 12:00 | Pausa café \n12:00 – 12:30 | «Claves para la comercialización exitosa de productos agroalimentarios a pequeña escala» \n\nEdgar Sabina\, jefe del Área de Marketing de GMR (Gestión del Medio Rural del Gobierno de Canarias)\n\n12:30 – 13:00 | «Caso omnicanalidad de FNAC» \n\nSara Vega\, directora de Marketing y Comunicación de FNAC\n\n13:00 – 13:25 | Mesa redonda \n13:25 – 13:30 | Clausura \n  \nREGISTRO\n  \nCompártelo en tus RRSS #MarcayConsumidor \n
URL:https://www.asociacionmkt.es/evento/jornada-marca-y-consumidor-un-viaje-entre-canales/
LOCATION:Consejo General de Economistas\, Calle de Nicasio Gallego\, 8\, Madrid\, Madrid\, 28010\, España
CATEGORIES:JORNADAS
ATTACH;FMTTYPE=image/png:https://www.asociacionmkt.es/wp-content/uploads/2023/06/AMKT_JornadaB2B_5julio_web.png
GEO:40.4293756;-3.6994382
X-APPLE-STRUCTURED-LOCATION;VALUE=URI;X-ADDRESS=Consejo General de Economistas Calle de Nicasio Gallego 8 Madrid Madrid 28010 España;X-APPLE-RADIUS=500;X-TITLE=Calle de Nicasio Gallego\, 8:geo:-3.6994382,40.4293756
END:VEVENT
END:VCALENDAR