BEGIN:VCALENDAR
VERSION:2.0
PRODID:-//MKT. Asociación de Marketing de España - ECPv4.9.14//NONSGML v1.0//EN
CALSCALE:GREGORIAN
METHOD:PUBLISH
X-WR-CALNAME:MKT. Asociación de Marketing de España
X-ORIGINAL-URL:https://www.asociacionmkt.es
X-WR-CALDESC:Eventos para MKT. Asociación de Marketing de España
BEGIN:VTIMEZONE
TZID:Europe/Madrid
BEGIN:DAYLIGHT
TZOFFSETFROM:+0100
TZOFFSETTO:+0200
TZNAME:CEST
DTSTART:20200329T010000
END:DAYLIGHT
BEGIN:STANDARD
TZOFFSETFROM:+0200
TZOFFSETTO:+0100
TZNAME:CET
DTSTART:20201025T010000
END:STANDARD
END:VTIMEZONE
BEGIN:VEVENT
DTSTART;TZID=Europe/Madrid:20201202T120000
DTEND;TZID=Europe/Madrid:20201202T130000
DTSTAMP:20260423T232019
CREATED:20201118T092239Z
LAST-MODIFIED:20201123T153916Z
UID:35437-1606910400-1606914000@www.asociacionmkt.es
SUMMARY:Jornada online | El Marketing Automation para B2B contado en 60´
DESCRIPTION:Mantener la relación directa y personalizada con nuestros usuarios se hace cada día más importante. Para mantener la calidad de este contacto una vez la comunidad ha comenzado a crecer\, contamos con la tecnología\, la estrategia y el Marketing Automation. Este último es un proceso automatizado que nos permite generar respuestas automáticas para conectar con el usuario. \nEl próximo 2 de diciembre a las 12:00 celebraremos desde el Comité de Marketing B2B el encuentro online\, «El Marketing Automation para B2B contado en 60´»\, en el que los asistentes podrán conocer todas las posibilidades que ofrece el Marketing Automation en su máximo potencial. \n  \nPROGRAMA \n12:00 Introducción \n\nVíctor Conde\, director general de MKT y Alberto Pastor\, director del Comité de Marketing B2B\n\n12:05 Mapeo de soluciones de automatización y tendencias \n\nDavid Hurtado Torán\, profesor asociado en el Máster en Marketing Automation del ISDI Madrid y Customer Success Innovation Lead en Microsoft.\n\n12:20 Presentación de posibilidades máximas de una de las soluciones \n\nCarlos Duez\, Marketing Automation Sales Lead Spain&Portugal en Adobe\n\n12:40 Mesa redonda: requerimientos de una buena implantación \n\nMiguel Liébana\, Interactive Delivery Lead for Europe en Accenture; David Hurtado\, Customer Success Innovation Lead en Microsoft; y Carlos Duez\, Sales Lead Spain & Portugal en Adobe\nModerador: Arturo García Berzosa\, socio director de Economía Digital en Garlic B2B\n\n> Puedes registrarte de manera gratuita en este enlace \n  \n  \n\n
URL:https://www.asociacionmkt.es/evento/jornada-online-el-marketing-automation/
LOCATION:online\, Madrid\, Madrid\, España
CATEGORIES:JORNADAS
ATTACH;FMTTYPE=image/jpeg:https://www.asociacionmkt.es/wp-content/uploads/2020/11/MarketingAutomationB2B_web-1.jpg
GEO:40.4167754;-3.7037902
END:VEVENT
END:VCALENDAR