BEGIN:VCALENDAR
VERSION:2.0
PRODID:-//MKT. Asociación de Marketing de España - ECPv4.9.14//NONSGML v1.0//EN
CALSCALE:GREGORIAN
METHOD:PUBLISH
X-WR-CALNAME:MKT. Asociación de Marketing de España
X-ORIGINAL-URL:https://www.asociacionmkt.es
X-WR-CALDESC:Eventos para MKT. Asociación de Marketing de España
BEGIN:VTIMEZONE
TZID:Europe/Madrid
BEGIN:DAYLIGHT
TZOFFSETFROM:+0100
TZOFFSETTO:+0200
TZNAME:CEST
DTSTART:20240331T010000
END:DAYLIGHT
BEGIN:STANDARD
TZOFFSETFROM:+0200
TZOFFSETTO:+0100
TZNAME:CET
DTSTART:20241027T010000
END:STANDARD
END:VTIMEZONE
BEGIN:VEVENT
DTSTART;TZID=Europe/Madrid:20240227T093000
DTEND;TZID=Europe/Madrid:20240227T113000
DTSTAMP:20260423T190617
CREATED:20240125T132407Z
LAST-MODIFIED:20240220T165042Z
UID:56810-1709026200-1709033400@www.asociacionmkt.es
SUMMARY:Jornada | Inteligencia artificial en el Tercer Sector: acciones eficaces y herramientas de marketing rentables
DESCRIPTION:\n\n\nEL PRÓXIMO 27 DE FEBRERO\, TE INVITAMOS A UNIRTE A NUESTRA JORNADA SOBRE «LA INTELIGENCIA ARTIFICIAL EN EL TERCER SECTOR: ACCIONES EFICACES Y HERRAMIENTAS DE MARKETING RENTABLES»\n\n\n\nDado el éxito de la pasada jornada sobre Inteligencia Artificial como herramienta de branding\, fidelización y acción social\, que desarrollamos dentro del Comité del Tercer Sector\, el  próximo 27 de febrero celebraremos una nueva jornada en la que seguiremos profundizando sobre cuáles son las acciones y herramientas más eficaces de Inteligencia Artificial. Tendrá lugar de 9:30 a 11:30 en la Fundación Botín (Calle Castelló\, 18\, 28001 Madrid). \nEste nuevo evento\, bajo el nombre de La Inteligencia Artificial en el Tercer Sector: acciones eficaces y herramientas de marketing rentables\, estará dirigido a aquellas entidades y asociaciones con  presupuestos limitados que deseen empezar a aplicar la Inteligencia Artificial diariamente en sus estrategias de marketing. \n\n\n\nAdemás\, tendremos el placer de contar con los siguientes ponentes expertos que compartirán experiencias concretas\, casos prácticos y valiosos consejos que los asistentes a la jornada podrán aprovechar para abordar temas específicos: \n\nCarlos Ayllón\, responsable de Contenidos de la Asociación Española Contra el Cáncer.\nRicardo García de Consuegra\, director Técnico de Keytron en España y autor del top ventas El Libro Fácil de la Inteligencia Artificial y su Ciberseguridad.\nManuel Monterrubio\, consejero delegado de Intelivoz y mentor del «Fondo de Emprendedores» de la Fundación Repsol.\nMiguel Moya\, profesor de Business Intelligence con Inteligencia Artificial y mentor de estrategias de negocios y videomarketing.\nModeradora: Mayte Pinto\, responsable del Comité del Tercer Sector de la Asociación de Marketing de España.\n\n  \n\n  \n\n\n¡Reserva el día en tu agenda! \n  \n  \n\n\nREGISTRO\n\n\n\n\n\n\nCompártelo en tus RRSS:\n
URL:https://www.asociacionmkt.es/evento/jornada-tercer-sector-inteligencia-artificial-marketing/
LOCATION:Fundación Botín\, Calle Castelló\, 18\, Madrid\, Madrid\, 28001\, España
CATEGORIES:JORNADAS
ATTACH;FMTTYPE=image/jpeg:https://www.asociacionmkt.es/wp-content/uploads/2024/01/JORNADA-TERCER-SECTOR_Eventos825-x-353-px.jpg
GEO:40.4239971;-3.6814716
X-APPLE-STRUCTURED-LOCATION;VALUE=URI;X-ADDRESS=Fundación Botín Calle Castelló 18 Madrid Madrid 28001 España;X-APPLE-RADIUS=500;X-TITLE=Calle Castelló\, 18:geo:-3.6814716,40.4239971
END:VEVENT
END:VCALENDAR