BEGIN:VCALENDAR
VERSION:2.0
PRODID:-//MKT. Asociación de Marketing de España - ECPv4.9.14//NONSGML v1.0//EN
CALSCALE:GREGORIAN
METHOD:PUBLISH
X-WR-CALNAME:MKT. Asociación de Marketing de España
X-ORIGINAL-URL:https://www.asociacionmkt.es
X-WR-CALDESC:Eventos para MKT. Asociación de Marketing de España
BEGIN:VTIMEZONE
TZID:Europe/Madrid
BEGIN:DAYLIGHT
TZOFFSETFROM:+0100
TZOFFSETTO:+0200
TZNAME:CEST
DTSTART:20150329T010000
END:DAYLIGHT
BEGIN:STANDARD
TZOFFSETFROM:+0200
TZOFFSETTO:+0100
TZNAME:CET
DTSTART:20151025T010000
END:STANDARD
END:VTIMEZONE
BEGIN:VEVENT
DTSTART;TZID=Europe/Madrid:20151006T090000
DTEND;TZID=Europe/Madrid:20151006T143000
DTSTAMP:20260423T204445
CREATED:20150915T103106Z
LAST-MODIFIED:20200427T111744Z
UID:7844-1444122000-1444141800@www.asociacionmkt.es
SUMMARY:Jornadas SAP: "La Transformación Digital como catalizador del Customer Engagement" en Barcelona
DESCRIPTION:
URL:https://www.asociacionmkt.es/evento/jornadas-sap-la-transformacion-digital-como-catalizador-del-customer-engagement/
LOCATION:Hotel NH Collection Constanza\, C/ Deu i Mata\, 69 - 99\, Barcelona\, Cataluña\, 08029\, España
CATEGORIES:JORNADAS
ATTACH;FMTTYPE=image/jpeg:https://www.asociacionmkt.es/wp-content/uploads/2015/09/sap-diapo.jpg
GEO:41.3888844;2.1362986
X-APPLE-STRUCTURED-LOCATION;VALUE=URI;X-ADDRESS=Hotel NH Collection Constanza C/ Deu i Mata 69 - 99 Barcelona Cataluña 08029 España;X-APPLE-RADIUS=500;X-TITLE=C/ Deu i Mata\, 69 - 99:geo:2.1362986,41.3888844
END:VEVENT
END:VCALENDAR