BEGIN:VCALENDAR
VERSION:2.0
PRODID:-//MKT. Asociación de Marketing de España - ECPv4.9.14//NONSGML v1.0//EN
CALSCALE:GREGORIAN
METHOD:PUBLISH
X-WR-CALNAME:MKT. Asociación de Marketing de España
X-ORIGINAL-URL:https://www.asociacionmkt.es
X-WR-CALDESC:Eventos para MKT. Asociación de Marketing de España
BEGIN:VTIMEZONE
TZID:Europe/Madrid
BEGIN:DAYLIGHT
TZOFFSETFROM:+0100
TZOFFSETTO:+0200
TZNAME:CEST
DTSTART:20180325T010000
END:DAYLIGHT
BEGIN:STANDARD
TZOFFSETFROM:+0200
TZOFFSETTO:+0100
TZNAME:CET
DTSTART:20181028T010000
END:STANDARD
END:VTIMEZONE
BEGIN:VEVENT
DTSTART;TZID=Europe/Madrid:20181002T083000
DTEND;TZID=Europe/Madrid:20181002T133000
DTSTAMP:20260424T103811
CREATED:20180914T123704Z
LAST-MODIFIED:20180914T123704Z
UID:18883-1538469000-1538487000@www.asociacionmkt.es
SUMMARY:JORNADAS SOBRE EL REGLAMENTO GENERAL DE PROTECCIÓN DE DATOS (RGDP)
DESCRIPTION:El pasado 25 de mayo entró en vigor el RGPD. Aunque su llegada se anunció con muchos meses de antelación\, finalmente parece que su implantación se ha producido de manera acelerada y\, en muchos casos\, nada acertada. \nNo obstante\, no es un proceso terminado\, sino todo lo contrario. Mientras avanza el trámite de la nueva Ley de Protección de Datos mediante la que el RGPD se incardinará en nuestro ordenamiento (aunque ya sea de aplicación)\, las empresas siguen adaptándose a la nueva situación. \nParece por tanto muy adecuado hacer un alto en el camino y analizar cómo se ha estado desarrollando el proceso hasta ahora\, cómo debería reenfocarse si fuera necesario y cómo evitar que las empresas vean comprometido su fondo de comercio por decisiones inadecuadas. \nPara ello\, esta jornada contará con voces autorizadas y expertas\, así como con usuarios que representan a todas las partes afectadas. \nSe ha concretado en tres bloques: \n\nEn el primero se pondrá de manifiesto cuáles han sido los fundamentos que han llevado a la aprobación del RGPD\, sabremos hacia dónde apunta la nueva LOPD y cómo se están viendo desde la Agencia Española de Protección de Datos los primeros meses de funcionamiento del Reglamento.\nEn el segundo se analizará\, por parte de empresas y sus expertos legales\, cómo ha sido la adaptación y los consejos que pueden darse desde esa experiencia para evitar errores.\nPor último\, en el tercero\, se echará una mirada al nuevo reto\, el reglamento de e-privacy que afectará\, especialmente\, a las empresas que realizan comercio electrónico y publicidad digital y que tiene en vilo a muchas de ellas.\n\nEn resumen\, una jornada de gran interés para todos los profesionales que tratamos con bases de datos en nuestro trabajo habitual. \n  \nPONENTES: \nSabina Guaylupo – Privacy and Data Protection Manager INMARK EUROPA \nArtemi Rallo – Diputado por Castellón del Grupo Socialista Ponente de la Ponencia “Proyecto de Ley Orgánica de Protección de Datos de carácter personal” \nJesús Rubí Navarrete – Adjunto al Director AGENCIA ESPAÑOLA DE PROTECCIÓN DE DATOS \nÓscar Herencia – Director general METLIFE España y Portugal \nAlejandro García del Valle – Abogado RIESTRA ABOGADOS \nErnesto Muñoz Corral – Abogado Socio/Director de Contenidos PICON&ASOCIADOS \nJosé Morales de los Ríos Pappa – Abogado AMJ ASOCIADOS \nLibe Bilbao – Directora general Comercial EL CONFIDENCIAL \nEnrique Peloche Gálvez – Delegado de Protección de Datos LA LIGA \nAlejandro Perales – Asesor Técnico de la AUC\, miembro del Consejo de Administración de RTVM y vocal del CCU. \nCristina Sánchez – Directora de Estrategia SMARTCLIP \nRodrigo Simancas – Director Comunicación\, Planificación y Analítica EQUMEDIA \n  \nPRESENTADORES: \nRaúl Bravo – Director Campus Madrid EAE Business School \nVíctor Conde – Director general MKT \nJuan Carlos Falantes – Presidente La FEDE \n  \nMODERADORES: \nCasilda Lazcano – DPO INFORMA \nRafael García-Plata – Presidente ALCANDORA \nDavid Torrejón – Director general La FEDE \n \nConsulta aquí el programa completo de la jornada\n  \nEntradas:\nLas entradas están a la venta por 100\,01€ y son gratuitas para socios de MKT.\nInscripción general\n \nSi eres Socio de MKT\, puedes acceder a tu entrada gratuita a través del Área Privada.\n \n_ \nPATROCINA: \nEQUMEDIA \nCONVOCAN Y ORGANIZAN: \nFEDE \nASOCIACIÓN DE MARKETING DE ESPAÑA \nCOLABORA: \nMADRID FORO EMPRESARIAL \n
URL:https://www.asociacionmkt.es/evento/jornadas-sobre-el-reglamento-general-de-proteccion-de-datos-rgdp/
LOCATION:EAE Business School\, C. de Joaquín Costa\, 41\, Madrid\, 28002\, España
CATEGORIES:JORNADAS
ATTACH;FMTTYPE=image/jpeg:https://www.asociacionmkt.es/wp-content/uploads/2018/09/creatividad-2.jpg
GEO:40.4438133;-3.6837756
X-APPLE-STRUCTURED-LOCATION;VALUE=URI;X-ADDRESS=EAE Business School C. de Joaquín Costa 41 Madrid 28002 España;X-APPLE-RADIUS=500;X-TITLE=C. de Joaquín Costa\, 41:geo:-3.6837756,40.4438133
END:VEVENT
END:VCALENDAR