BEGIN:VCALENDAR
VERSION:2.0
PRODID:-//MKT. Asociación de Marketing de España - ECPv4.9.14//NONSGML v1.0//EN
CALSCALE:GREGORIAN
METHOD:PUBLISH
X-WR-CALNAME:MKT. Asociación de Marketing de España
X-ORIGINAL-URL:https://www.asociacionmkt.es
X-WR-CALDESC:Eventos para MKT. Asociación de Marketing de España
BEGIN:VTIMEZONE
TZID:Europe/Madrid
BEGIN:DAYLIGHT
TZOFFSETFROM:+0100
TZOFFSETTO:+0200
TZNAME:CEST
DTSTART:20190331T010000
END:DAYLIGHT
BEGIN:STANDARD
TZOFFSETFROM:+0200
TZOFFSETTO:+0100
TZNAME:CET
DTSTART:20191027T010000
END:STANDARD
END:VTIMEZONE
BEGIN:VEVENT
DTSTART;TZID=Europe/Madrid:20190926T080000
DTEND;TZID=Europe/Madrid:20190926T170000
DTSTAMP:20260424T010045
CREATED:20190916T170025Z
LAST-MODIFIED:20190916T170025Z
UID:23563-1569484800-1569517200@www.asociacionmkt.es
SUMMARY:LA COMUNICACIÓN HOY | ATREVIA
DESCRIPTION:ATREVIA\, empresa de comunicación y posicionamiento estratégico\, organiza un año más el Congreso Iberoamericano «La comunicación hoy»\, un encuentro donde compartir tendencias y retos de la nueva comunicación.\nSerá el 26 de septiembre en Barcelona y se dividirá en los siguientes paneles: talento y motivación\, conexión con el cliente e influencia y creación de opinión. \n> Consulta la programación y los ponentes confirmados\n> Consigue aquí tu entrada \n
URL:https://www.asociacionmkt.es/evento/la-comunicacion-hoy-atrevia/
LOCATION:Madrid\, Madrid\, España
CATEGORIES:JORNADAS
ATTACH;FMTTYPE=image/jpeg:https://www.asociacionmkt.es/wp-content/uploads/2019/09/Captura-de-pantalla-2019-09-16-a-las-15.33.04.jpg
END:VEVENT
END:VCALENDAR