BEGIN:VCALENDAR
VERSION:2.0
PRODID:-//MKT. Asociación de Marketing de España - ECPv4.9.14//NONSGML v1.0//EN
CALSCALE:GREGORIAN
METHOD:PUBLISH
X-WR-CALNAME:MKT. Asociación de Marketing de España
X-ORIGINAL-URL:https://www.asociacionmkt.es
X-WR-CALDESC:Eventos para MKT. Asociación de Marketing de España
BEGIN:VTIMEZONE
TZID:Europe/Madrid
BEGIN:DAYLIGHT
TZOFFSETFROM:+0100
TZOFFSETTO:+0200
TZNAME:CEST
DTSTART:20200329T010000
END:DAYLIGHT
BEGIN:STANDARD
TZOFFSETFROM:+0200
TZOFFSETTO:+0100
TZNAME:CET
DTSTART:20201025T010000
END:STANDARD
END:VTIMEZONE
BEGIN:VEVENT
DTSTART;TZID=Europe/Madrid:20201202T163000
DTEND;TZID=Europe/Madrid:20201202T180000
DTSTAMP:20260424T000514
CREATED:20201124T124924Z
LAST-MODIFIED:20201202T092338Z
UID:35518-1606926600-1606932000@www.asociacionmkt.es
SUMMARY:Debate virtual de La FEDE | ¿Cómo será el futuro sin cookies?
DESCRIPTION:El pasado enero\, Google anunció que Chrome prevé eliminar el soporte de cookies de terceros\, así como otros navegadores. La corriente de defensa de la privacidad\, cuya principal vanguardia la encuentra en la legislación de la Unión Europea\, pondrá pronto grandes dificultades legales para su uso. Pero las cookies han sido la piedra angular sobre la que se ha desarrollado la publicidad digital hasta llegar a la actual compra programática\, que supone cada año un espacio más grande de la inversión. \nEl próximo 2 de diciembre\, La FEDE\, con nuestra colaboración\, realizará un debate virtual a las 16:30 bajo el título «Cómo será el futuro sin cookies?»\, junto a grandes expertos. \n  \nPONENTES\n\nEnrique Díaz\, Head of Digital Media de Equmedia\nMiguel Madrid\, director de Transformación Digital de Henneo\nSergio Martín\, Country Manager de Adform\nCarmen Pérez Gómez\, jefe de Imagen y Ciclo Comercial de Ibercaja\nCelia Villalobos Vedia\, directora de Agencias y Partners de Google\n\nModeradora: Córdoba Ruiz\, vicepresidenta de La FEDE y presidenta de La FEDE-Agencias de España. \n  \n >Puedes registrarte de manera gratuita en este enlace\n  \n
URL:https://www.asociacionmkt.es/evento/la-fede-encuentro-digital-la-publicidad-digital/
LOCATION:online\, Madrid\, Madrid\, España
CATEGORIES:ENCUENTROS
ATTACH;FMTTYPE=image/jpeg:https://www.asociacionmkt.es/wp-content/uploads/2020/11/LAFEDEdiciembre825x353.jpg
GEO:40.4167754;-3.7037902
END:VEVENT
END:VCALENDAR