BEGIN:VCALENDAR
VERSION:2.0
PRODID:-//MKT. Asociación de Marketing de España - ECPv4.9.14//NONSGML v1.0//EN
CALSCALE:GREGORIAN
METHOD:PUBLISH
X-WR-CALNAME:MKT. Asociación de Marketing de España
X-ORIGINAL-URL:https://www.asociacionmkt.es
X-WR-CALDESC:Eventos para MKT. Asociación de Marketing de España
BEGIN:VTIMEZONE
TZID:Europe/Madrid
BEGIN:DAYLIGHT
TZOFFSETFROM:+0100
TZOFFSETTO:+0200
TZNAME:CEST
DTSTART:20150329T010000
END:DAYLIGHT
BEGIN:STANDARD
TZOFFSETFROM:+0200
TZOFFSETTO:+0100
TZNAME:CET
DTSTART:20151025T010000
END:STANDARD
END:VTIMEZONE
BEGIN:VEVENT
DTSTART;TZID=Europe/Madrid:20150414T093000
DTEND;TZID=Europe/Madrid:20150414T120000
DTSTAMP:20260423T223128
CREATED:20150410T062441Z
LAST-MODIFIED:20200427T110444Z
UID:7080-1429003800-1429012800@www.asociacionmkt.es
SUMMARY:La Tecnología aplicada al Marketing
DESCRIPTION:La reciente incorporación de Microsoft a la lista de socios corporativos de la Asociación de Marketing de España evidencia la creciente importancia de las Tecnologías de la Información en la nueva función de marketing. El próximo martes\, 14 de abril\, de 9.30 a 12.00 h. Microsoft lo pondrá de manifiesto en una sesión muy especial que ha preparado bajo el título de La Tecnología aplicada al Marketing. Será en la Real Academia Española (C/ Felipe IV\, 4\, Madrid).\nLa Asociación de Marketing colabora en la organización de esta jornada a la que están convocados directores y responsables de marketing que quieran profundizar en aquellos aspectos tecnológicos que ayuden definitivamente a nuestras marcas a situar al consumidor en el centro de sus estrategias. El aforo ya está completo\, pero te mantendremos puntualmente informado de todo lo que suceda en esta primera jornada en colaboración con Microsoft.\nEntre otros asuntos\, durante la sesión se abordarán temas de máxima actualidad para los marketeros\, como los hábitos y tendencias digitales o la creación de vínculos con el consumidor a través de aplicaciones tecnológicas. Por un lado\, Raúl de la Cruz\, director de Advertising & Online de Microsoft España\, hablará sobre tendencias digitales del consumidor\, y por otro\, Sebastian Lancestremere\, Sport Business General Manager en Microsoft Corporation\, abordará un caso de éxito dentro del sector deportivo en una charla sobre tecnología que une marcas y consumidores. \n
URL:https://www.asociacionmkt.es/evento/la-tecnologia-aplicada-al-marketing/
LOCATION:Real Academia Española\, C/ Felipe IV\, 4\, Madrid\, Madrid\, España
CATEGORIES:ENCUENTROS
ATTACH;FMTTYPE=image/jpeg:https://www.asociacionmkt.es/wp-content/uploads/2015/04/tecnologia-aplicada-al-marketing_portada.jpg
GEO:40.4152123;-3.6910971
X-APPLE-STRUCTURED-LOCATION;VALUE=URI;X-ADDRESS=Real Academia Española C/ Felipe IV 4 Madrid Madrid España;X-APPLE-RADIUS=500;X-TITLE=C/ Felipe IV\, 4:geo:-3.6910971,40.4152123
END:VEVENT
END:VCALENDAR